BEGIN:VCALENDAR
VERSION:2.0
PRODID:-//CAD MicroSolutions Inc. - ECPv6.15.15//NONSGML v1.0//EN
CALSCALE:GREGORIAN
METHOD:PUBLISH
X-ORIGINAL-URL:https://www.cadmicro.com
X-WR-CALDESC:Events for CAD MicroSolutions Inc.
REFRESH-INTERVAL;VALUE=DURATION:PT1H
X-Robots-Tag:noindex
X-PUBLISHED-TTL:PT1H
BEGIN:VTIMEZONE
TZID:America/Toronto
BEGIN:DAYLIGHT
TZOFFSETFROM:-0500
TZOFFSETTO:-0400
TZNAME:EDT
DTSTART:20240310T070000
END:DAYLIGHT
BEGIN:STANDARD
TZOFFSETFROM:-0400
TZOFFSETTO:-0500
TZNAME:EST
DTSTART:20241103T060000
END:STANDARD
BEGIN:DAYLIGHT
TZOFFSETFROM:-0500
TZOFFSETTO:-0400
TZNAME:EDT
DTSTART:20250309T070000
END:DAYLIGHT
BEGIN:STANDARD
TZOFFSETFROM:-0400
TZOFFSETTO:-0500
TZNAME:EST
DTSTART:20251102T060000
END:STANDARD
BEGIN:DAYLIGHT
TZOFFSETFROM:-0500
TZOFFSETTO:-0400
TZNAME:EDT
DTSTART:20260308T070000
END:DAYLIGHT
BEGIN:STANDARD
TZOFFSETFROM:-0400
TZOFFSETTO:-0500
TZNAME:EST
DTSTART:20261101T060000
END:STANDARD
END:VTIMEZONE
BEGIN:VEVENT
DTSTART;TZID=America/Toronto:20250716T110000
DTEND;TZID=America/Toronto:20250716T113000
DTSTAMP:20260423T041623
CREATED:20250610T150109Z
LAST-MODIFIED:20250610T150717Z
UID:74788-1752663600-1752665400@www.cadmicro.com
SUMMARY:How to Leverage PSpice for Pre-Layout Simulation
DESCRIPTION:Live				\n				\n					\n		\n				\n			\n						\n				\n					Webinar				\n				\n					\n		\n					\n		\n				\n				\n					August 8 @ 11am ET				\n				\n				\n				\n							\n			\n						\n		\n						\n				\n				\n				\n					Carbon Composites – How to Slice\, 3D Print and Use Them				\n				\n					\n		\n					\n		\n				\n						\n					\n			\n						\n				\n									Join an exclusive webinar by UltiMaker on slicing for composite materials\, where you will have the opportunity to delve into advanced techniques and practical insights into 3D printing with composite polymers. During the webinar\, experts will discuss applications and print settings for PET CF\, Nylon Carbon Fiber and PET Carbon Fiber across multiple 3D printing platforms including S7\, Method XL and the new Factor 4.   Agenda Introduction to composite materials: Understanding the benefits and challenges.Slicing techniques in cura: Optimizing print settings for PPS CF\, Nylon Carbon Fiber\, and PET Carbon Fiber.Composite applications: Real-world examples in Automotive\, Robotics\, and Aerospace industries.Q&A Session: Your chance to ask our experts.  Save your seat now\, we hope to see you there! 								\n				\n				\n				\n									\n					\n						\n									Register Now
URL:https://www.cadmicro.com/event/how-to-leverage-pspice-for-pre-layout-simulation/
CATEGORIES:Webinar
ATTACH;FMTTYPE=image/webp:https://www.cadmicro.com/wp-content/uploads/pspice.webp
END:VEVENT
BEGIN:VEVENT
DTSTART;TZID=America/Toronto:20250729T110000
DTEND;TZID=America/Toronto:20250729T120000
DTSTAMP:20260423T041623
CREATED:20250611T140649Z
LAST-MODIFIED:20250611T140958Z
UID:74795-1753786800-1753790400@www.cadmicro.com
SUMMARY:Life-Changing Prosthetics for Kids: A Fireside Chat on Innovation and Compassionate Care
DESCRIPTION:Live				\n				\n					\n		\n				\n			\n						\n				\n					Webinar				\n				\n					\n		\n					\n		\n				\n				\n					August 8 @ 11am ET				\n				\n				\n				\n							\n			\n						\n		\n						\n				\n				\n				\n					Carbon Composites – How to Slice\, 3D Print and Use Them				\n				\n					\n		\n					\n		\n				\n						\n					\n			\n						\n				\n									Join an exclusive webinar by UltiMaker on slicing for composite materials\, where you will have the opportunity to delve into advanced techniques and practical insights into 3D printing with composite polymers. During the webinar\, experts will discuss applications and print settings for PET CF\, Nylon Carbon Fiber and PET Carbon Fiber across multiple 3D printing platforms including S7\, Method XL and the new Factor 4.   Agenda Introduction to composite materials: Understanding the benefits and challenges.Slicing techniques in cura: Optimizing print settings for PPS CF\, Nylon Carbon Fiber\, and PET Carbon Fiber.Composite applications: Real-world examples in Automotive\, Robotics\, and Aerospace industries.Q&A Session: Your chance to ask our experts.  Save your seat now\, we hope to see you there! 								\n				\n				\n				\n									\n					\n						\n									Register Now
URL:https://www.cadmicro.com/event/life-changing-prosthetics-for-kids-a-fireside-chat-on-innovation-and-compassionate-care/
CATEGORIES:Webinar
ATTACH;FMTTYPE=image/webp:https://www.cadmicro.com/wp-content/uploads/website-HP-webinar-July-29.webp
END:VEVENT
END:VCALENDAR