BEGIN:VCALENDAR
VERSION:2.0
PRODID:-//CAD MicroSolutions Inc. - ECPv6.15.15//NONSGML v1.0//EN
CALSCALE:GREGORIAN
METHOD:PUBLISH
X-ORIGINAL-URL:https://www.cadmicro.com
X-WR-CALDESC:Events for CAD MicroSolutions Inc.
REFRESH-INTERVAL;VALUE=DURATION:PT1H
X-Robots-Tag:noindex
X-PUBLISHED-TTL:PT1H
BEGIN:VTIMEZONE
TZID:America/Toronto
BEGIN:DAYLIGHT
TZOFFSETFROM:-0500
TZOFFSETTO:-0400
TZNAME:EDT
DTSTART:20240310T070000
END:DAYLIGHT
BEGIN:STANDARD
TZOFFSETFROM:-0400
TZOFFSETTO:-0500
TZNAME:EST
DTSTART:20241103T060000
END:STANDARD
BEGIN:DAYLIGHT
TZOFFSETFROM:-0500
TZOFFSETTO:-0400
TZNAME:EDT
DTSTART:20250309T070000
END:DAYLIGHT
BEGIN:STANDARD
TZOFFSETFROM:-0400
TZOFFSETTO:-0500
TZNAME:EST
DTSTART:20251102T060000
END:STANDARD
BEGIN:DAYLIGHT
TZOFFSETFROM:-0500
TZOFFSETTO:-0400
TZNAME:EDT
DTSTART:20260308T070000
END:DAYLIGHT
BEGIN:STANDARD
TZOFFSETFROM:-0400
TZOFFSETTO:-0500
TZNAME:EST
DTSTART:20261101T060000
END:STANDARD
END:VTIMEZONE
BEGIN:VEVENT
DTSTART;TZID=America/Toronto:20250618T110000
DTEND;TZID=America/Toronto:20250618T113000
DTSTAMP:20260422T224943
CREATED:20250527T193418Z
LAST-MODIFIED:20250527T193828Z
UID:74665-1750244400-1750246200@www.cadmicro.com
SUMMARY:Eliminate Late Stage BOM Issues – Design Smarter from the Start
DESCRIPTION:Events				\n				\n				\n				\n							\n			\n						\n		\n						\n				\n				\n				\n					December 18 | 12 - 4pm ET				\n				\n					\n		\n					\n		\n				\n						\n					\n			\n						\n				\n									Step into the future of manufacturing at our exclusive Additive Manufacturing Open House! Join us for an exciting day of exploration and discovery at our Customer Experience Centre as we unveil cutting-edge advancements reshaping the landscape of modern manufacturing. Immerse yourself in a hands-on experience with state-of-the-art 3D printers and additive manufacturing equipment. Witness live demonstrations of intricate prototypes\, functional parts\, and groundbreaking applications that are reshaping industries. This is your chance to meet with experts and discuss about the principles and applications of Industry 4.0. Don’t miss this opportunity and join us in shaping the future of advanced manufacturing! Fill out the form if you’d like to visit the CAD Micro Customer Experience Centre. We hope to see you there! 								\n				\n					\n		\n				\n			\n						\n				\n					Wish To Attend?				\n				\n				\n				\n									Complete the form below and a member of our team will contact you shortly to confirm your interest.
URL:https://www.cadmicro.com/event/eliminate-late-stage-bom-issues-design-smarter-from-the-start/
LOCATION:Ontario
CATEGORIES:Webinar
ATTACH;FMTTYPE=image/jpeg:https://www.cadmicro.com/wp-content/uploads/Cadence-Jan-22-Webinar-Website.jpg
END:VEVENT
BEGIN:VEVENT
DTSTART;TZID=America/Toronto:20250618T120000
DTEND;TZID=America/Toronto:20250618T160000
DTSTAMP:20260422T224943
CREATED:20240429T181747Z
LAST-MODIFIED:20250512T195503Z
UID:61080-1750248000-1750262400@www.cadmicro.com
SUMMARY:Additive Manufacturing Open House
DESCRIPTION:Events				\n				\n				\n				\n							\n			\n						\n		\n						\n				\n				\n				\n					December 18 | 12 - 4pm ET				\n				\n					\n		\n					\n		\n				\n						\n					\n			\n						\n				\n									Step into the future of manufacturing at our exclusive Additive Manufacturing Open House! Join us for an exciting day of exploration and discovery at our Customer Experience Centre as we unveil cutting-edge advancements reshaping the landscape of modern manufacturing. Immerse yourself in a hands-on experience with state-of-the-art 3D printers and additive manufacturing equipment. Witness live demonstrations of intricate prototypes\, functional parts\, and groundbreaking applications that are reshaping industries. This is your chance to meet with experts and discuss about the principles and applications of Industry 4.0. Don’t miss this opportunity and join us in shaping the future of advanced manufacturing! Fill out the form if you’d like to visit the CAD Micro Customer Experience Centre. We hope to see you there! 								\n				\n					\n		\n				\n			\n						\n				\n					Wish To Attend?				\n				\n				\n				\n									Complete the form below and a member of our team will contact you shortly to confirm your interest.
URL:https://www.cadmicro.com/event/additive-manufacturing-open-house-7/
LOCATION:CAD Micro\, 30 International Blvd\, Unit 1\, Toronto\, Ontario\, M9W 1A2\, Canada
CATEGORIES:In Person Event
ATTACH;FMTTYPE=image/webp:https://www.cadmicro.com/wp-content/uploads/3d-printer-printing-e1710878695784.webp
ORGANIZER;CN="CAD Micro":MAILTO:contact@cadmicro.com
END:VEVENT
BEGIN:VEVENT
DTSTART;TZID=America/Toronto:20250623T090000
DTEND;TZID=America/Toronto:20250626T120000
DTSTAMP:20260422T224943
CREATED:20241029T134932Z
LAST-MODIFIED:20250512T193240Z
UID:67710-1750669200-1750939200@www.cadmicro.com
SUMMARY:SOLIDWORKS CAM Professional – Online
DESCRIPTION:Events				\n				\n				\n				\n							\n			\n						\n		\n						\n				\n				\n				\n					December 18 | 12 - 4pm ET				\n				\n					\n		\n					\n		\n				\n						\n					\n			\n						\n				\n									Step into the future of manufacturing at our exclusive Additive Manufacturing Open House! Join us for an exciting day of exploration and discovery at our Customer Experience Centre as we unveil cutting-edge advancements reshaping the landscape of modern manufacturing. Immerse yourself in a hands-on experience with state-of-the-art 3D printers and additive manufacturing equipment. Witness live demonstrations of intricate prototypes\, functional parts\, and groundbreaking applications that are reshaping industries. This is your chance to meet with experts and discuss about the principles and applications of Industry 4.0. Don’t miss this opportunity and join us in shaping the future of advanced manufacturing! Fill out the form if you’d like to visit the CAD Micro Customer Experience Centre. We hope to see you there! 								\n				\n					\n		\n				\n			\n						\n				\n					Wish To Attend?				\n				\n				\n				\n									Complete the form below and a member of our team will contact you shortly to confirm your interest.
URL:https://www.cadmicro.com/event/solidworks-cam-professional-training-online-4/
LOCATION:Ontario
CATEGORIES:Training
ATTACH;FMTTYPE=image/jpeg:https://www.cadmicro.com/wp-content/uploads/CAM-Training-Thumbnail.jpg
ORGANIZER;CN="CAD Micro":MAILTO:contact@cadmicro.com
END:VEVENT
BEGIN:VEVENT
DTSTART;TZID=America/Toronto:20250623T090000
DTEND;TZID=America/Toronto:20250703T120000
DTSTAMP:20260422T224943
CREATED:20250312T172329Z
LAST-MODIFIED:20250512T194231Z
UID:72579-1750669200-1751544000@www.cadmicro.com
SUMMARY:SOLIDWORKS Essentials - Online
DESCRIPTION:Events				\n				\n				\n				\n							\n			\n						\n		\n						\n				\n				\n				\n					December 18 | 12 - 4pm ET				\n				\n					\n		\n					\n		\n				\n						\n					\n			\n						\n				\n									Step into the future of manufacturing at our exclusive Additive Manufacturing Open House! Join us for an exciting day of exploration and discovery at our Customer Experience Centre as we unveil cutting-edge advancements reshaping the landscape of modern manufacturing. Immerse yourself in a hands-on experience with state-of-the-art 3D printers and additive manufacturing equipment. Witness live demonstrations of intricate prototypes\, functional parts\, and groundbreaking applications that are reshaping industries. This is your chance to meet with experts and discuss about the principles and applications of Industry 4.0. Don’t miss this opportunity and join us in shaping the future of advanced manufacturing! Fill out the form if you’d like to visit the CAD Micro Customer Experience Centre. We hope to see you there! 								\n				\n					\n		\n				\n			\n						\n				\n					Wish To Attend?				\n				\n				\n				\n									Complete the form below and a member of our team will contact you shortly to confirm your interest.
URL:https://www.cadmicro.com/event/solidworks-essentials-online/
LOCATION:Ontario
CATEGORIES:Training
ATTACH;FMTTYPE=image/jpeg:https://www.cadmicro.com/wp-content/uploads/SW-CAD-Training-Thumbnail.jpg
ORGANIZER;CN="CAD Micro":MAILTO:contact@cadmicro.com
END:VEVENT
BEGIN:VEVENT
DTSTART;TZID=America/Toronto:20250623T130000
DTEND;TZID=America/Toronto:20250626T160000
DTSTAMP:20260422T224943
CREATED:20240209T152932Z
LAST-MODIFIED:20250313T173858Z
UID:56296-1750683600-1750953600@www.cadmicro.com
SUMMARY:SOLIDWORKS Routing: Electrical - Online
DESCRIPTION:Events				\n				\n				\n				\n							\n			\n						\n		\n						\n				\n				\n				\n					December 18 | 12 - 4pm ET				\n				\n					\n		\n					\n		\n				\n						\n					\n			\n						\n				\n									Step into the future of manufacturing at our exclusive Additive Manufacturing Open House! Join us for an exciting day of exploration and discovery at our Customer Experience Centre as we unveil cutting-edge advancements reshaping the landscape of modern manufacturing. Immerse yourself in a hands-on experience with state-of-the-art 3D printers and additive manufacturing equipment. Witness live demonstrations of intricate prototypes\, functional parts\, and groundbreaking applications that are reshaping industries. This is your chance to meet with experts and discuss about the principles and applications of Industry 4.0. Don’t miss this opportunity and join us in shaping the future of advanced manufacturing! Fill out the form if you’d like to visit the CAD Micro Customer Experience Centre. We hope to see you there! 								\n				\n					\n		\n				\n			\n						\n				\n					Wish To Attend?				\n				\n				\n				\n									Complete the form below and a member of our team will contact you shortly to confirm your interest.
URL:https://www.cadmicro.com/event/solidworks-routing-electrical-online/
LOCATION:Ontario
CATEGORIES:Training
ATTACH;FMTTYPE=image/jpeg:https://www.cadmicro.com/wp-content/uploads/Electrical-Training-Thumbnail.jpg
ORGANIZER;CN="CAD Micro":MAILTO:contact@cadmicro.com
END:VEVENT
BEGIN:VEVENT
DTSTART;TZID=America/Toronto:20250716T110000
DTEND;TZID=America/Toronto:20250716T113000
DTSTAMP:20260422T224943
CREATED:20250610T150109Z
LAST-MODIFIED:20250610T150717Z
UID:74788-1752663600-1752665400@www.cadmicro.com
SUMMARY:How to Leverage PSpice for Pre-Layout Simulation
DESCRIPTION:Events				\n				\n				\n				\n							\n			\n						\n		\n						\n				\n				\n				\n					December 18 | 12 - 4pm ET				\n				\n					\n		\n					\n		\n				\n						\n					\n			\n						\n				\n									Step into the future of manufacturing at our exclusive Additive Manufacturing Open House! Join us for an exciting day of exploration and discovery at our Customer Experience Centre as we unveil cutting-edge advancements reshaping the landscape of modern manufacturing. Immerse yourself in a hands-on experience with state-of-the-art 3D printers and additive manufacturing equipment. Witness live demonstrations of intricate prototypes\, functional parts\, and groundbreaking applications that are reshaping industries. This is your chance to meet with experts and discuss about the principles and applications of Industry 4.0. Don’t miss this opportunity and join us in shaping the future of advanced manufacturing! Fill out the form if you’d like to visit the CAD Micro Customer Experience Centre. We hope to see you there! 								\n				\n					\n		\n				\n			\n						\n				\n					Wish To Attend?				\n				\n				\n				\n									Complete the form below and a member of our team will contact you shortly to confirm your interest.
URL:https://www.cadmicro.com/event/how-to-leverage-pspice-for-pre-layout-simulation/
LOCATION:Ontario
CATEGORIES:Webinar
ATTACH;FMTTYPE=image/webp:https://www.cadmicro.com/wp-content/uploads/pspice.webp
END:VEVENT
BEGIN:VEVENT
DTSTART;TZID=America/Toronto:20250729T110000
DTEND;TZID=America/Toronto:20250729T120000
DTSTAMP:20260422T224943
CREATED:20250611T140649Z
LAST-MODIFIED:20250611T140958Z
UID:74795-1753786800-1753790400@www.cadmicro.com
SUMMARY:Life-Changing Prosthetics for Kids: A Fireside Chat on Innovation and Compassionate Care
DESCRIPTION:Events				\n				\n				\n				\n							\n			\n						\n		\n						\n				\n				\n				\n					December 18 | 12 - 4pm ET				\n				\n					\n		\n					\n		\n				\n						\n					\n			\n						\n				\n									Step into the future of manufacturing at our exclusive Additive Manufacturing Open House! Join us for an exciting day of exploration and discovery at our Customer Experience Centre as we unveil cutting-edge advancements reshaping the landscape of modern manufacturing. Immerse yourself in a hands-on experience with state-of-the-art 3D printers and additive manufacturing equipment. Witness live demonstrations of intricate prototypes\, functional parts\, and groundbreaking applications that are reshaping industries. This is your chance to meet with experts and discuss about the principles and applications of Industry 4.0. Don’t miss this opportunity and join us in shaping the future of advanced manufacturing! Fill out the form if you’d like to visit the CAD Micro Customer Experience Centre. We hope to see you there! 								\n				\n					\n		\n				\n			\n						\n				\n					Wish To Attend?				\n				\n				\n				\n									Complete the form below and a member of our team will contact you shortly to confirm your interest.
URL:https://www.cadmicro.com/event/life-changing-prosthetics-for-kids-a-fireside-chat-on-innovation-and-compassionate-care/
LOCATION:Ontario
CATEGORIES:Webinar
ATTACH;FMTTYPE=image/webp:https://www.cadmicro.com/wp-content/uploads/website-HP-webinar-July-29.webp
END:VEVENT
END:VCALENDAR