BEGIN:VCALENDAR
VERSION:2.0
PRODID:-//CAD MicroSolutions Inc. - ECPv6.15.15//NONSGML v1.0//EN
CALSCALE:GREGORIAN
METHOD:PUBLISH
X-WR-CALNAME:CAD MicroSolutions Inc.
X-ORIGINAL-URL:https://www.cadmicro.com
X-WR-CALDESC:Events for CAD MicroSolutions Inc.
REFRESH-INTERVAL;VALUE=DURATION:PT1H
X-Robots-Tag:noindex
X-PUBLISHED-TTL:PT1H
BEGIN:VTIMEZONE
TZID:America/Toronto
BEGIN:DAYLIGHT
TZOFFSETFROM:-0500
TZOFFSETTO:-0400
TZNAME:EDT
DTSTART:20230312T070000
END:DAYLIGHT
BEGIN:STANDARD
TZOFFSETFROM:-0400
TZOFFSETTO:-0500
TZNAME:EST
DTSTART:20231105T060000
END:STANDARD
BEGIN:DAYLIGHT
TZOFFSETFROM:-0500
TZOFFSETTO:-0400
TZNAME:EDT
DTSTART:20240310T070000
END:DAYLIGHT
BEGIN:STANDARD
TZOFFSETFROM:-0400
TZOFFSETTO:-0500
TZNAME:EST
DTSTART:20241103T060000
END:STANDARD
BEGIN:DAYLIGHT
TZOFFSETFROM:-0500
TZOFFSETTO:-0400
TZNAME:EDT
DTSTART:20250309T070000
END:DAYLIGHT
BEGIN:STANDARD
TZOFFSETFROM:-0400
TZOFFSETTO:-0500
TZNAME:EST
DTSTART:20251102T060000
END:STANDARD
END:VTIMEZONE
BEGIN:VEVENT
DTSTART;TZID=America/Toronto:20240502T130000
DTEND;TZID=America/Toronto:20240502T140000
DTSTAMP:20260422T181908
CREATED:20240327T142228Z
LAST-MODIFIED:20240417T191049Z
UID:59550-1714654800-1714658400@www.cadmicro.com
SUMMARY:Innovate with CAD Micro: ACIDO’s Tools and Tech Thursday
DESCRIPTION:Events				\n				\n				\n				\n							\n			\n						\n		\n						\n				\n				\n				\n					January 22 | 9am - 5pm ET				\n				\n					\n		\n					\n		\n				\n						\n					\n			\n						\n				\n									Step into the future of manufacturing at our exclusive Additive Manufacturing Open House! Join us for an exciting day of exploration and discovery at our Customer Experience Centre as we unveil cutting-edge advancements reshaping the landscape of modern manufacturing. Immerse yourself in a hands-on experience with state-of-the-art 3D printers and additive manufacturing equipment. Witness live demonstrations of intricate prototypes\, functional parts\, and groundbreaking applications that are reshaping industries. This is your chance to meet with experts and discuss about the principles and applications of Industry 4.0. Don’t miss this opportunity and join us in shaping the future of advanced manufacturing! Fill out the form if you’d like to visit the CAD Micro Customer Experience Centre. We hope to see you there! 								\n				\n					\n		\n				\n			\n						\n				\n					Wish To Attend?				\n				\n				\n				\n									Complete the form below and a member of our team will contact you shortly to confirm your interest.
URL:https://www.cadmicro.com/event/innovate-with-cad-micro-acidos-tools-and-tech-thursday/
LOCATION:Ontario
CATEGORIES:Webinar
ATTACH;FMTTYPE=image/jpeg:https://www.cadmicro.com/wp-content/uploads/ACIDO-Event-Website-Image.jpg
ORGANIZER;CN="CAD Micro":MAILTO:contact@cadmicro.com
END:VEVENT
BEGIN:VEVENT
DTSTART;TZID=America/Toronto:20240502T110000
DTEND;TZID=America/Toronto:20240502T120000
DTSTAMP:20260422T181908
CREATED:20240425T202254Z
LAST-MODIFIED:20240425T204626Z
UID:61006-1714647600-1714651200@www.cadmicro.com
SUMMARY:Live Demo of the UltiMaker Factor 4
DESCRIPTION:Events				\n				\n				\n				\n							\n			\n						\n		\n						\n				\n				\n				\n					January 22 | 9am - 5pm ET				\n				\n					\n		\n					\n		\n				\n						\n					\n			\n						\n				\n									Step into the future of manufacturing at our exclusive Additive Manufacturing Open House! Join us for an exciting day of exploration and discovery at our Customer Experience Centre as we unveil cutting-edge advancements reshaping the landscape of modern manufacturing. Immerse yourself in a hands-on experience with state-of-the-art 3D printers and additive manufacturing equipment. Witness live demonstrations of intricate prototypes\, functional parts\, and groundbreaking applications that are reshaping industries. This is your chance to meet with experts and discuss about the principles and applications of Industry 4.0. Don’t miss this opportunity and join us in shaping the future of advanced manufacturing! Fill out the form if you’d like to visit the CAD Micro Customer Experience Centre. We hope to see you there! 								\n				\n					\n		\n				\n			\n						\n				\n					Wish To Attend?				\n				\n				\n				\n									Complete the form below and a member of our team will contact you shortly to confirm your interest.
URL:https://www.cadmicro.com/event/live-demo-of-the-ultimaker-factor-4/
LOCATION:Ontario
CATEGORIES:Webinar
ATTACH;FMTTYPE=image/jpeg:https://www.cadmicro.com/wp-content/uploads/SDB-00082-1.jpg
END:VEVENT
BEGIN:VEVENT
DTSTART;TZID=America/Toronto:20240501T120000
DTEND;TZID=America/Toronto:20240501T160000
DTSTAMP:20260422T181908
CREATED:20240129T143428Z
LAST-MODIFIED:20240429T151823Z
UID:55615-1714564800-1714579200@www.cadmicro.com
SUMMARY:Advanced Manufacturing Open House
DESCRIPTION:Events				\n				\n				\n				\n							\n			\n						\n		\n						\n				\n				\n				\n					January 22 | 9am - 5pm ET				\n				\n					\n		\n					\n		\n				\n						\n					\n			\n						\n				\n									Step into the future of manufacturing at our exclusive Additive Manufacturing Open House! Join us for an exciting day of exploration and discovery at our Customer Experience Centre as we unveil cutting-edge advancements reshaping the landscape of modern manufacturing. Immerse yourself in a hands-on experience with state-of-the-art 3D printers and additive manufacturing equipment. Witness live demonstrations of intricate prototypes\, functional parts\, and groundbreaking applications that are reshaping industries. This is your chance to meet with experts and discuss about the principles and applications of Industry 4.0. Don’t miss this opportunity and join us in shaping the future of advanced manufacturing! Fill out the form if you’d like to visit the CAD Micro Customer Experience Centre. We hope to see you there! 								\n				\n					\n		\n				\n			\n						\n				\n					Wish To Attend?				\n				\n				\n				\n									Complete the form below and a member of our team will contact you shortly to confirm your interest.
URL:https://www.cadmicro.com/event/advanced-manufacturing-open-house-7/
LOCATION:CAD Micro\, 30 International Blvd\, Unit 1\, Toronto\, Ontario\, M9W 1A2\, Canada
CATEGORIES:In Person Event
ATTACH;FMTTYPE=image/jpeg:https://www.cadmicro.com/wp-content/uploads/SmartMTX-Event-Page-Image-1.jpg
ORGANIZER;CN="CAD Micro":MAILTO:contact@cadmicro.com
END:VEVENT
BEGIN:VEVENT
DTSTART;TZID=America/Toronto:20240430T110000
DTEND;TZID=America/Toronto:20240430T120000
DTSTAMP:20260422T181908
CREATED:20240319T181958Z
LAST-MODIFIED:20240319T182349Z
UID:59069-1714474800-1714478400@www.cadmicro.com
SUMMARY:SOLIDWORKS CAM and CAMWorks – Getting Started
DESCRIPTION:Events				\n				\n				\n				\n							\n			\n						\n		\n						\n				\n				\n				\n					January 22 | 9am - 5pm ET				\n				\n					\n		\n					\n		\n				\n						\n					\n			\n						\n				\n									Step into the future of manufacturing at our exclusive Additive Manufacturing Open House! Join us for an exciting day of exploration and discovery at our Customer Experience Centre as we unveil cutting-edge advancements reshaping the landscape of modern manufacturing. Immerse yourself in a hands-on experience with state-of-the-art 3D printers and additive manufacturing equipment. Witness live demonstrations of intricate prototypes\, functional parts\, and groundbreaking applications that are reshaping industries. This is your chance to meet with experts and discuss about the principles and applications of Industry 4.0. Don’t miss this opportunity and join us in shaping the future of advanced manufacturing! Fill out the form if you’d like to visit the CAD Micro Customer Experience Centre. We hope to see you there! 								\n				\n					\n		\n				\n			\n						\n				\n					Wish To Attend?				\n				\n				\n				\n									Complete the form below and a member of our team will contact you shortly to confirm your interest.
URL:https://www.cadmicro.com/event/solidworks-cam-and-camworks-getting-started-4/
LOCATION:Ontario
CATEGORIES:Webinar
ATTACH;FMTTYPE=image/jpeg:https://www.cadmicro.com/wp-content/uploads/SW-CAM-and-CW-Getting-Started-1.jpg
END:VEVENT
BEGIN:VEVENT
DTSTART;TZID=America/Toronto:20240430T090000
DTEND;TZID=America/Toronto:20240502T170000
DTSTAMP:20260422T181908
CREATED:20240130T150515Z
LAST-MODIFIED:20240130T202751Z
UID:55777-1714467600-1714669200@www.cadmicro.com
SUMMARY:SOLIDWORKS Plastics Training – Online
DESCRIPTION:Events				\n				\n				\n				\n							\n			\n						\n		\n						\n				\n				\n				\n					January 22 | 9am - 5pm ET				\n				\n					\n		\n					\n		\n				\n						\n					\n			\n						\n				\n									Step into the future of manufacturing at our exclusive Additive Manufacturing Open House! Join us for an exciting day of exploration and discovery at our Customer Experience Centre as we unveil cutting-edge advancements reshaping the landscape of modern manufacturing. Immerse yourself in a hands-on experience with state-of-the-art 3D printers and additive manufacturing equipment. Witness live demonstrations of intricate prototypes\, functional parts\, and groundbreaking applications that are reshaping industries. This is your chance to meet with experts and discuss about the principles and applications of Industry 4.0. Don’t miss this opportunity and join us in shaping the future of advanced manufacturing! Fill out the form if you’d like to visit the CAD Micro Customer Experience Centre. We hope to see you there! 								\n				\n					\n		\n				\n			\n						\n				\n					Wish To Attend?				\n				\n				\n				\n									Complete the form below and a member of our team will contact you shortly to confirm your interest.
URL:https://www.cadmicro.com/event/solidworks-plastics-training-online-april/
LOCATION:Ontario
CATEGORIES:Training
ATTACH;FMTTYPE=image/jpeg:https://www.cadmicro.com/wp-content/uploads/Sim-Training-Thumbnail.jpg
ORGANIZER;CN="CAD Micro":MAILTO:contact@cadmicro.com
END:VEVENT
BEGIN:VEVENT
DTSTART;TZID=America/Toronto:20240430T090000
DTEND;TZID=America/Toronto:20240430T160000
DTSTAMP:20260422T181908
CREATED:20240129T205202Z
LAST-MODIFIED:20240129T205636Z
UID:55699-1714467600-1714492800@www.cadmicro.com
SUMMARY:DEX Expo - Winnipeg
DESCRIPTION:Events				\n				\n				\n				\n							\n			\n						\n		\n						\n				\n				\n				\n					January 22 | 9am - 5pm ET				\n				\n					\n		\n					\n		\n				\n						\n					\n			\n						\n				\n									Step into the future of manufacturing at our exclusive Additive Manufacturing Open House! Join us for an exciting day of exploration and discovery at our Customer Experience Centre as we unveil cutting-edge advancements reshaping the landscape of modern manufacturing. Immerse yourself in a hands-on experience with state-of-the-art 3D printers and additive manufacturing equipment. Witness live demonstrations of intricate prototypes\, functional parts\, and groundbreaking applications that are reshaping industries. This is your chance to meet with experts and discuss about the principles and applications of Industry 4.0. Don’t miss this opportunity and join us in shaping the future of advanced manufacturing! Fill out the form if you’d like to visit the CAD Micro Customer Experience Centre. We hope to see you there! 								\n				\n					\n		\n				\n			\n						\n				\n					Wish To Attend?				\n				\n				\n				\n									Complete the form below and a member of our team will contact you shortly to confirm your interest.
URL:https://www.cadmicro.com/event/dex-expo-winnipeg/
LOCATION:Victoria Inn Hotel & Convention Centre\, 1808 Wellington Ave\, Winnipeg\, Manitoba\, R3H 0G3\, Canada
CATEGORIES:Trade Show
ATTACH;FMTTYPE=image/jpeg:https://www.cadmicro.com/wp-content/uploads/DEX-Show-Website-banner-Image.jpg
END:VEVENT
BEGIN:VEVENT
DTSTART;TZID=America/Toronto:20240429T083000
DTEND;TZID=America/Toronto:20240502T123000
DTSTAMP:20260422T181908
CREATED:20240130T150221Z
LAST-MODIFIED:20240130T201021Z
UID:55771-1714379400-1714653000@www.cadmicro.com
SUMMARY:SOLIDWORKS CAM Professional Training – Online
DESCRIPTION:Events				\n				\n				\n				\n							\n			\n						\n		\n						\n				\n				\n				\n					January 22 | 9am - 5pm ET				\n				\n					\n		\n					\n		\n				\n						\n					\n			\n						\n				\n									Step into the future of manufacturing at our exclusive Additive Manufacturing Open House! Join us for an exciting day of exploration and discovery at our Customer Experience Centre as we unveil cutting-edge advancements reshaping the landscape of modern manufacturing. Immerse yourself in a hands-on experience with state-of-the-art 3D printers and additive manufacturing equipment. Witness live demonstrations of intricate prototypes\, functional parts\, and groundbreaking applications that are reshaping industries. This is your chance to meet with experts and discuss about the principles and applications of Industry 4.0. Don’t miss this opportunity and join us in shaping the future of advanced manufacturing! Fill out the form if you’d like to visit the CAD Micro Customer Experience Centre. We hope to see you there! 								\n				\n					\n		\n				\n			\n						\n				\n					Wish To Attend?				\n				\n				\n				\n									Complete the form below and a member of our team will contact you shortly to confirm your interest.
URL:https://www.cadmicro.com/event/solidworks-cam-professional-training-online-2/
LOCATION:Ontario
CATEGORIES:Training
ATTACH;FMTTYPE=image/jpeg:https://www.cadmicro.com/wp-content/uploads/CAM-Training-Thumbnail.jpg
ORGANIZER;CN="CAD Micro":MAILTO:contact@cadmicro.com
END:VEVENT
BEGIN:VEVENT
DTSTART;TZID=America/Toronto:20240425T110000
DTEND;TZID=America/Toronto:20240425T114500
DTSTAMP:20260422T181908
CREATED:20240319T181339Z
LAST-MODIFIED:20240319T181831Z
UID:59061-1714042800-1714045500@www.cadmicro.com
SUMMARY:Reducing Machine Cycle Time with VoluMill\, VoluTurn\, and PrimeTurning™
DESCRIPTION:Events				\n				\n				\n				\n							\n			\n						\n		\n						\n				\n				\n				\n					January 22 | 9am - 5pm ET				\n				\n					\n		\n					\n		\n				\n						\n					\n			\n						\n				\n									Step into the future of manufacturing at our exclusive Additive Manufacturing Open House! Join us for an exciting day of exploration and discovery at our Customer Experience Centre as we unveil cutting-edge advancements reshaping the landscape of modern manufacturing. Immerse yourself in a hands-on experience with state-of-the-art 3D printers and additive manufacturing equipment. Witness live demonstrations of intricate prototypes\, functional parts\, and groundbreaking applications that are reshaping industries. This is your chance to meet with experts and discuss about the principles and applications of Industry 4.0. Don’t miss this opportunity and join us in shaping the future of advanced manufacturing! Fill out the form if you’d like to visit the CAD Micro Customer Experience Centre. We hope to see you there! 								\n				\n					\n		\n				\n			\n						\n				\n					Wish To Attend?				\n				\n				\n				\n									Complete the form below and a member of our team will contact you shortly to confirm your interest.
URL:https://www.cadmicro.com/event/reducing-machine-cycle-time-with-volumill-voluturn-and-primeturning/
LOCATION:Ontario
CATEGORIES:Webinar
ATTACH;FMTTYPE=image/jpeg:https://www.cadmicro.com/wp-content/uploads/VoluMill-4.jpg
END:VEVENT
BEGIN:VEVENT
DTSTART;TZID=America/Toronto:20240424T090000
DTEND;TZID=America/Toronto:20240425T170000
DTSTAMP:20260422T181908
CREATED:20240130T145858Z
LAST-MODIFIED:20240130T201316Z
UID:55764-1713949200-1714064400@www.cadmicro.com
SUMMARY:SOLIDWORKS Surface Modeling Training – Online
DESCRIPTION:Events				\n				\n				\n				\n							\n			\n						\n		\n						\n				\n				\n				\n					January 22 | 9am - 5pm ET				\n				\n					\n		\n					\n		\n				\n						\n					\n			\n						\n				\n									Step into the future of manufacturing at our exclusive Additive Manufacturing Open House! Join us for an exciting day of exploration and discovery at our Customer Experience Centre as we unveil cutting-edge advancements reshaping the landscape of modern manufacturing. Immerse yourself in a hands-on experience with state-of-the-art 3D printers and additive manufacturing equipment. Witness live demonstrations of intricate prototypes\, functional parts\, and groundbreaking applications that are reshaping industries. This is your chance to meet with experts and discuss about the principles and applications of Industry 4.0. Don’t miss this opportunity and join us in shaping the future of advanced manufacturing! Fill out the form if you’d like to visit the CAD Micro Customer Experience Centre. We hope to see you there! 								\n				\n					\n		\n				\n			\n						\n				\n					Wish To Attend?				\n				\n				\n				\n									Complete the form below and a member of our team will contact you shortly to confirm your interest.
URL:https://www.cadmicro.com/event/solidworks-surface-modeling-training-online-4/
LOCATION:Ontario
CATEGORIES:Training
ATTACH;FMTTYPE=image/jpeg:https://www.cadmicro.com/wp-content/uploads/SW-CAD-Training-Thumbnail.jpg
ORGANIZER;CN="CAD Micro":MAILTO:contact@cadmicro.com
END:VEVENT
BEGIN:VEVENT
DTSTART;TZID=America/Toronto:20240424T083000
DTEND;TZID=America/Toronto:20240424T150000
DTSTAMP:20260422T181908
CREATED:20240322T172744Z
LAST-MODIFIED:20240322T174407Z
UID:59345-1713947400-1713970800@www.cadmicro.com
SUMMARY:Enhancing Reliability through Advanced Testing and Simulation
DESCRIPTION:Events				\n				\n				\n				\n							\n			\n						\n		\n						\n				\n				\n				\n					January 22 | 9am - 5pm ET				\n				\n					\n		\n					\n		\n				\n						\n					\n			\n						\n				\n									Step into the future of manufacturing at our exclusive Additive Manufacturing Open House! Join us for an exciting day of exploration and discovery at our Customer Experience Centre as we unveil cutting-edge advancements reshaping the landscape of modern manufacturing. Immerse yourself in a hands-on experience with state-of-the-art 3D printers and additive manufacturing equipment. Witness live demonstrations of intricate prototypes\, functional parts\, and groundbreaking applications that are reshaping industries. This is your chance to meet with experts and discuss about the principles and applications of Industry 4.0. Don’t miss this opportunity and join us in shaping the future of advanced manufacturing! Fill out the form if you’d like to visit the CAD Micro Customer Experience Centre. We hope to see you there! 								\n				\n					\n		\n				\n			\n						\n				\n					Wish To Attend?				\n				\n				\n				\n									Complete the form below and a member of our team will contact you shortly to confirm your interest.
URL:https://www.cadmicro.com/event/enhancing-reliability-through-advanced-testing-and-simulation/
LOCATION:Megalab Group Inc.\, 150 Addison Hall Circle\, Aurora\, Ontario\, L4G3X8\, Canada
CATEGORIES:In Person Event
ATTACH;FMTTYPE=image/jpeg:https://www.cadmicro.com/wp-content/uploads/Enhancing-Reliability-Through-Advanced-Testing-Sim-Event-Website.jpg
ORGANIZER;CN="CAD Micro":MAILTO:contact@cadmicro.com
END:VEVENT
BEGIN:VEVENT
DTSTART;TZID=America/Toronto:20240423T133000
DTEND;TZID=America/Toronto:20240423T160000
DTSTAMP:20260422T181908
CREATED:20240129T162233Z
LAST-MODIFIED:20240129T162610Z
UID:55668-1713879000-1713888000@www.cadmicro.com
SUMMARY:Unleashing the Power of Metal 3D Printing
DESCRIPTION:Events				\n				\n				\n				\n							\n			\n						\n		\n						\n				\n				\n				\n					January 22 | 9am - 5pm ET				\n				\n					\n		\n					\n		\n				\n						\n					\n			\n						\n				\n									Step into the future of manufacturing at our exclusive Additive Manufacturing Open House! Join us for an exciting day of exploration and discovery at our Customer Experience Centre as we unveil cutting-edge advancements reshaping the landscape of modern manufacturing. Immerse yourself in a hands-on experience with state-of-the-art 3D printers and additive manufacturing equipment. Witness live demonstrations of intricate prototypes\, functional parts\, and groundbreaking applications that are reshaping industries. This is your chance to meet with experts and discuss about the principles and applications of Industry 4.0. Don’t miss this opportunity and join us in shaping the future of advanced manufacturing! Fill out the form if you’d like to visit the CAD Micro Customer Experience Centre. We hope to see you there! 								\n				\n					\n		\n				\n			\n						\n				\n					Wish To Attend?				\n				\n				\n				\n									Complete the form below and a member of our team will contact you shortly to confirm your interest.
URL:https://www.cadmicro.com/event/unleashing-the-power-of-metal-3d-printing/
LOCATION:CAD Micro\, 30 International Blvd\, Unit 1\, Toronto\, Ontario\, M9W 1A2\, Canada
CATEGORIES:In Person Event
ATTACH;FMTTYPE=image/jpeg:https://www.cadmicro.com/wp-content/uploads/Metal-3D-Printing-Event-Website.jpg
ORGANIZER;CN="CAD Micro":MAILTO:contact@cadmicro.com
END:VEVENT
END:VCALENDAR