BEGIN:VCALENDAR
VERSION:2.0
PRODID:-//CAD MicroSolutions Inc. - ECPv6.15.15//NONSGML v1.0//EN
CALSCALE:GREGORIAN
METHOD:PUBLISH
X-WR-CALNAME:CAD MicroSolutions Inc.
X-ORIGINAL-URL:https://www.cadmicro.com
X-WR-CALDESC:Events for CAD MicroSolutions Inc.
REFRESH-INTERVAL;VALUE=DURATION:PT1H
X-Robots-Tag:noindex
X-PUBLISHED-TTL:PT1H
BEGIN:VTIMEZONE
TZID:America/Toronto
BEGIN:DAYLIGHT
TZOFFSETFROM:-0500
TZOFFSETTO:-0400
TZNAME:EDT
DTSTART:20240310T070000
END:DAYLIGHT
BEGIN:STANDARD
TZOFFSETFROM:-0400
TZOFFSETTO:-0500
TZNAME:EST
DTSTART:20241103T060000
END:STANDARD
BEGIN:DAYLIGHT
TZOFFSETFROM:-0500
TZOFFSETTO:-0400
TZNAME:EDT
DTSTART:20250309T070000
END:DAYLIGHT
BEGIN:STANDARD
TZOFFSETFROM:-0400
TZOFFSETTO:-0500
TZNAME:EST
DTSTART:20251102T060000
END:STANDARD
BEGIN:DAYLIGHT
TZOFFSETFROM:-0500
TZOFFSETTO:-0400
TZNAME:EDT
DTSTART:20260308T070000
END:DAYLIGHT
BEGIN:STANDARD
TZOFFSETFROM:-0400
TZOFFSETTO:-0500
TZNAME:EST
DTSTART:20261101T060000
END:STANDARD
END:VTIMEZONE
BEGIN:VEVENT
DTSTART;TZID=America/Toronto:20250520T090000
DTEND;TZID=America/Toronto:20250530T120000
DTSTAMP:20260421T201933
CREATED:20250501T185654Z
LAST-MODIFIED:20250501T190216Z
UID:73992-1747731600-1748606400@www.cadmicro.com
SUMMARY:SOLIDWORKS Essentials - Online
DESCRIPTION:Live				\n				\n					\n		\n				\n			\n						\n				\n					Webinar				\n				\n					\n		\n					\n		\n				\n				\n					July 29 @ 11am ET				\n				\n				\n				\n							\n			\n						\n		\n						\n				\n				\n				\n					Life-Changing Prosthetics for Kids: A Fireside Chat on Innovation and Compassionate Care				\n				\n					\n		\n					\n		\n				\n						\n					\n			\n						\n				\n									Discover how purpose-driven innovation is transforming lives—one prosthesis at a time. In this inspiring session\, you’ll hear the story behind a groundbreaking collaboration between the Limb Kind Foundation and HP Inc. that brought life-changing prosthetic care to children in Kenya. As part of this mission\, the team produced five custom prostheses to help restore mobility to young patients in need. The Limb Kind Foundation is a U.S.-based nonprofit dedicated to restoring mobility to children with limb loss by providing them with life-changing prostheses. This fireside chat brings together the experts and partners who made it happen—sharing how they transitioned from traditional prosthetic fabrication to a fully digital workflow. From scanning and design at Macy O&P to final part production using HP’s Multi Jet Fusion (MJF) technology and finishing by ABCorp\, you’ll get a behind-the-scenes look at how additive manufacturing is expanding access to quality care in underserved communities. What You’ll Learn✔️ What it takes to implement a fully digital prosthetic workflow—from scanning to socket design✔️ How HP MJF enabled the rapid production of custom prostheses in a humanitarian setting✔️ How cross-continental partnerships can drive scalable\, compassionate impact✔️ Real-world insight into the application of 3D printing in orthotic and prosthetic care Register NowBe part of a powerful story where innovation meets compassion—and see how 3D printing is reshaping what’s possible in prosthetic care. 								\n				\n				\n				\n									\n					\n						\n									Register Now
URL:https://www.cadmicro.com/event/solidworks-essentials-online-7/
CATEGORIES:Training
ATTACH;FMTTYPE=image/jpeg:https://www.cadmicro.com/wp-content/uploads/SW-CAD-Training-Thumbnail.jpg
ORGANIZER;CN="CAD Micro":MAILTO:contact@cadmicro.com
END:VEVENT
BEGIN:VEVENT
DTSTART;TZID=America/Toronto:20250527T090000
DTEND;TZID=America/Toronto:20250530T120000
DTSTAMP:20260421T201933
CREATED:20240130T144402Z
LAST-MODIFIED:20250313T173456Z
UID:55746-1748336400-1748606400@www.cadmicro.com
SUMMARY:SOLIDWORKS CAM Standard Training – Online
DESCRIPTION:Live				\n				\n					\n		\n				\n			\n						\n				\n					Webinar				\n				\n					\n		\n					\n		\n				\n				\n					July 29 @ 11am ET				\n				\n				\n				\n							\n			\n						\n		\n						\n				\n				\n				\n					Life-Changing Prosthetics for Kids: A Fireside Chat on Innovation and Compassionate Care				\n				\n					\n		\n					\n		\n				\n						\n					\n			\n						\n				\n									Discover how purpose-driven innovation is transforming lives—one prosthesis at a time. In this inspiring session\, you’ll hear the story behind a groundbreaking collaboration between the Limb Kind Foundation and HP Inc. that brought life-changing prosthetic care to children in Kenya. As part of this mission\, the team produced five custom prostheses to help restore mobility to young patients in need. The Limb Kind Foundation is a U.S.-based nonprofit dedicated to restoring mobility to children with limb loss by providing them with life-changing prostheses. This fireside chat brings together the experts and partners who made it happen—sharing how they transitioned from traditional prosthetic fabrication to a fully digital workflow. From scanning and design at Macy O&P to final part production using HP’s Multi Jet Fusion (MJF) technology and finishing by ABCorp\, you’ll get a behind-the-scenes look at how additive manufacturing is expanding access to quality care in underserved communities. What You’ll Learn✔️ What it takes to implement a fully digital prosthetic workflow—from scanning to socket design✔️ How HP MJF enabled the rapid production of custom prostheses in a humanitarian setting✔️ How cross-continental partnerships can drive scalable\, compassionate impact✔️ Real-world insight into the application of 3D printing in orthotic and prosthetic care Register NowBe part of a powerful story where innovation meets compassion—and see how 3D printing is reshaping what’s possible in prosthetic care. 								\n				\n				\n				\n									\n					\n						\n									Register Now
URL:https://www.cadmicro.com/event/solidworks-cam-standard-training-online-2/
CATEGORIES:Training
ATTACH;FMTTYPE=image/jpeg:https://www.cadmicro.com/wp-content/uploads/CAM-Training-Thumbnail.jpg
ORGANIZER;CN="CAD Micro":MAILTO:contact@cadmicro.com
END:VEVENT
BEGIN:VEVENT
DTSTART;TZID=America/Toronto:20250527T130000
DTEND;TZID=America/Toronto:20250529T160000
DTSTAMP:20260421T201933
CREATED:20250313T205103Z
LAST-MODIFIED:20250512T192419Z
UID:72766-1748350800-1748534400@www.cadmicro.com
SUMMARY:SOLIDWORKS Weldments - Online
DESCRIPTION:Live				\n				\n					\n		\n				\n			\n						\n				\n					Webinar				\n				\n					\n		\n					\n		\n				\n				\n					July 29 @ 11am ET				\n				\n				\n				\n							\n			\n						\n		\n						\n				\n				\n				\n					Life-Changing Prosthetics for Kids: A Fireside Chat on Innovation and Compassionate Care				\n				\n					\n		\n					\n		\n				\n						\n					\n			\n						\n				\n									Discover how purpose-driven innovation is transforming lives—one prosthesis at a time. In this inspiring session\, you’ll hear the story behind a groundbreaking collaboration between the Limb Kind Foundation and HP Inc. that brought life-changing prosthetic care to children in Kenya. As part of this mission\, the team produced five custom prostheses to help restore mobility to young patients in need. The Limb Kind Foundation is a U.S.-based nonprofit dedicated to restoring mobility to children with limb loss by providing them with life-changing prostheses. This fireside chat brings together the experts and partners who made it happen—sharing how they transitioned from traditional prosthetic fabrication to a fully digital workflow. From scanning and design at Macy O&P to final part production using HP’s Multi Jet Fusion (MJF) technology and finishing by ABCorp\, you’ll get a behind-the-scenes look at how additive manufacturing is expanding access to quality care in underserved communities. What You’ll Learn✔️ What it takes to implement a fully digital prosthetic workflow—from scanning to socket design✔️ How HP MJF enabled the rapid production of custom prostheses in a humanitarian setting✔️ How cross-continental partnerships can drive scalable\, compassionate impact✔️ Real-world insight into the application of 3D printing in orthotic and prosthetic care Register NowBe part of a powerful story where innovation meets compassion—and see how 3D printing is reshaping what’s possible in prosthetic care. 								\n				\n				\n				\n									\n					\n						\n									Register Now
URL:https://www.cadmicro.com/event/solidworks-weldments-online/
CATEGORIES:Training
ATTACH;FMTTYPE=image/jpeg:https://www.cadmicro.com/wp-content/uploads/SW-CAD-Training-Thumbnail.jpg
ORGANIZER;CN="CAD Micro":MAILTO:contact@cadmicro.com
END:VEVENT
BEGIN:VEVENT
DTSTART;TZID=America/Toronto:20250527T130000
DTEND;TZID=America/Toronto:20250530T160000
DTSTAMP:20260421T201933
CREATED:20231213T144102Z
LAST-MODIFIED:20250512T192531Z
UID:54503-1748350800-1748620800@www.cadmicro.com
SUMMARY:SOLIDWORKS Surface Modeling Training – Online
DESCRIPTION:Live				\n				\n					\n		\n				\n			\n						\n				\n					Webinar				\n				\n					\n		\n					\n		\n				\n				\n					July 29 @ 11am ET				\n				\n				\n				\n							\n			\n						\n		\n						\n				\n				\n				\n					Life-Changing Prosthetics for Kids: A Fireside Chat on Innovation and Compassionate Care				\n				\n					\n		\n					\n		\n				\n						\n					\n			\n						\n				\n									Discover how purpose-driven innovation is transforming lives—one prosthesis at a time. In this inspiring session\, you’ll hear the story behind a groundbreaking collaboration between the Limb Kind Foundation and HP Inc. that brought life-changing prosthetic care to children in Kenya. As part of this mission\, the team produced five custom prostheses to help restore mobility to young patients in need. The Limb Kind Foundation is a U.S.-based nonprofit dedicated to restoring mobility to children with limb loss by providing them with life-changing prostheses. This fireside chat brings together the experts and partners who made it happen—sharing how they transitioned from traditional prosthetic fabrication to a fully digital workflow. From scanning and design at Macy O&P to final part production using HP’s Multi Jet Fusion (MJF) technology and finishing by ABCorp\, you’ll get a behind-the-scenes look at how additive manufacturing is expanding access to quality care in underserved communities. What You’ll Learn✔️ What it takes to implement a fully digital prosthetic workflow—from scanning to socket design✔️ How HP MJF enabled the rapid production of custom prostheses in a humanitarian setting✔️ How cross-continental partnerships can drive scalable\, compassionate impact✔️ Real-world insight into the application of 3D printing in orthotic and prosthetic care Register NowBe part of a powerful story where innovation meets compassion—and see how 3D printing is reshaping what’s possible in prosthetic care. 								\n				\n				\n				\n									\n					\n						\n									Register Now
URL:https://www.cadmicro.com/event/solidworks-surface-modeling-training-online-3/
CATEGORIES:Training
ATTACH;FMTTYPE=image/jpeg:https://www.cadmicro.com/wp-content/uploads/SW-CAD-Training-Thumbnail.jpg
ORGANIZER;CN="CAD Micro":MAILTO:contact@cadmicro.com
END:VEVENT
BEGIN:VEVENT
DTSTART;TZID=America/Toronto:20250527T130000
DTEND;TZID=America/Toronto:20250606T160000
DTSTAMP:20260421T201933
CREATED:20250501T190008Z
LAST-MODIFIED:20250501T190123Z
UID:73997-1748350800-1749225600@www.cadmicro.com
SUMMARY:SOLIDWORKS Essentials - Online
DESCRIPTION:Live				\n				\n					\n		\n				\n			\n						\n				\n					Webinar				\n				\n					\n		\n					\n		\n				\n				\n					July 29 @ 11am ET				\n				\n				\n				\n							\n			\n						\n		\n						\n				\n				\n				\n					Life-Changing Prosthetics for Kids: A Fireside Chat on Innovation and Compassionate Care				\n				\n					\n		\n					\n		\n				\n						\n					\n			\n						\n				\n									Discover how purpose-driven innovation is transforming lives—one prosthesis at a time. In this inspiring session\, you’ll hear the story behind a groundbreaking collaboration between the Limb Kind Foundation and HP Inc. that brought life-changing prosthetic care to children in Kenya. As part of this mission\, the team produced five custom prostheses to help restore mobility to young patients in need. The Limb Kind Foundation is a U.S.-based nonprofit dedicated to restoring mobility to children with limb loss by providing them with life-changing prostheses. This fireside chat brings together the experts and partners who made it happen—sharing how they transitioned from traditional prosthetic fabrication to a fully digital workflow. From scanning and design at Macy O&P to final part production using HP’s Multi Jet Fusion (MJF) technology and finishing by ABCorp\, you’ll get a behind-the-scenes look at how additive manufacturing is expanding access to quality care in underserved communities. What You’ll Learn✔️ What it takes to implement a fully digital prosthetic workflow—from scanning to socket design✔️ How HP MJF enabled the rapid production of custom prostheses in a humanitarian setting✔️ How cross-continental partnerships can drive scalable\, compassionate impact✔️ Real-world insight into the application of 3D printing in orthotic and prosthetic care Register NowBe part of a powerful story where innovation meets compassion—and see how 3D printing is reshaping what’s possible in prosthetic care. 								\n				\n				\n				\n									\n					\n						\n									Register Now
URL:https://www.cadmicro.com/event/solidworks-essentials-online-8/
CATEGORIES:Training
ATTACH;FMTTYPE=image/jpeg:https://www.cadmicro.com/wp-content/uploads/SW-CAD-Training-Thumbnail.jpg
END:VEVENT
BEGIN:VEVENT
DTSTART;TZID=America/Toronto:20250528T090000
DTEND;TZID=America/Toronto:20250529T170000
DTSTAMP:20260421T201933
CREATED:20250505T193452Z
LAST-MODIFIED:20250505T194759Z
UID:74074-1748422800-1748538000@www.cadmicro.com
SUMMARY:CANSEC 2025
DESCRIPTION:Live				\n				\n					\n		\n				\n			\n						\n				\n					Webinar				\n				\n					\n		\n					\n		\n				\n				\n					July 29 @ 11am ET				\n				\n				\n				\n							\n			\n						\n		\n						\n				\n				\n				\n					Life-Changing Prosthetics for Kids: A Fireside Chat on Innovation and Compassionate Care				\n				\n					\n		\n					\n		\n				\n						\n					\n			\n						\n				\n									Discover how purpose-driven innovation is transforming lives—one prosthesis at a time. In this inspiring session\, you’ll hear the story behind a groundbreaking collaboration between the Limb Kind Foundation and HP Inc. that brought life-changing prosthetic care to children in Kenya. As part of this mission\, the team produced five custom prostheses to help restore mobility to young patients in need. The Limb Kind Foundation is a U.S.-based nonprofit dedicated to restoring mobility to children with limb loss by providing them with life-changing prostheses. This fireside chat brings together the experts and partners who made it happen—sharing how they transitioned from traditional prosthetic fabrication to a fully digital workflow. From scanning and design at Macy O&P to final part production using HP’s Multi Jet Fusion (MJF) technology and finishing by ABCorp\, you’ll get a behind-the-scenes look at how additive manufacturing is expanding access to quality care in underserved communities. What You’ll Learn✔️ What it takes to implement a fully digital prosthetic workflow—from scanning to socket design✔️ How HP MJF enabled the rapid production of custom prostheses in a humanitarian setting✔️ How cross-continental partnerships can drive scalable\, compassionate impact✔️ Real-world insight into the application of 3D printing in orthotic and prosthetic care Register NowBe part of a powerful story where innovation meets compassion—and see how 3D printing is reshaping what’s possible in prosthetic care. 								\n				\n				\n				\n									\n					\n						\n									Register Now
URL:https://www.cadmicro.com/event/cansec-2025/
CATEGORIES:Trade Show
ATTACH;FMTTYPE=image/webp:https://www.cadmicro.com/wp-content/uploads/CANSEC-2025.webp
ORGANIZER;CN="CAD Micro":MAILTO:contact@cadmicro.com
END:VEVENT
BEGIN:VEVENT
DTSTART;TZID=America/Toronto:20250529T110000
DTEND;TZID=America/Toronto:20250529T113000
DTSTAMP:20260421T201933
CREATED:20250509T140045Z
LAST-MODIFIED:20250509T140529Z
UID:74347-1748516400-1748518200@www.cadmicro.com
SUMMARY:How the Jet Fusion 3D Printer Works and its Benefits
DESCRIPTION:Live				\n				\n					\n		\n				\n			\n						\n				\n					Webinar				\n				\n					\n		\n					\n		\n				\n				\n					July 29 @ 11am ET				\n				\n				\n				\n							\n			\n						\n		\n						\n				\n				\n				\n					Life-Changing Prosthetics for Kids: A Fireside Chat on Innovation and Compassionate Care				\n				\n					\n		\n					\n		\n				\n						\n					\n			\n						\n				\n									Discover how purpose-driven innovation is transforming lives—one prosthesis at a time. In this inspiring session\, you’ll hear the story behind a groundbreaking collaboration between the Limb Kind Foundation and HP Inc. that brought life-changing prosthetic care to children in Kenya. As part of this mission\, the team produced five custom prostheses to help restore mobility to young patients in need. The Limb Kind Foundation is a U.S.-based nonprofit dedicated to restoring mobility to children with limb loss by providing them with life-changing prostheses. This fireside chat brings together the experts and partners who made it happen—sharing how they transitioned from traditional prosthetic fabrication to a fully digital workflow. From scanning and design at Macy O&P to final part production using HP’s Multi Jet Fusion (MJF) technology and finishing by ABCorp\, you’ll get a behind-the-scenes look at how additive manufacturing is expanding access to quality care in underserved communities. What You’ll Learn✔️ What it takes to implement a fully digital prosthetic workflow—from scanning to socket design✔️ How HP MJF enabled the rapid production of custom prostheses in a humanitarian setting✔️ How cross-continental partnerships can drive scalable\, compassionate impact✔️ Real-world insight into the application of 3D printing in orthotic and prosthetic care Register NowBe part of a powerful story where innovation meets compassion—and see how 3D printing is reshaping what’s possible in prosthetic care. 								\n				\n				\n				\n									\n					\n						\n									Register Now
URL:https://www.cadmicro.com/event/how-the-jet-fusion-3d-printer-works-and-its-benefits/
CATEGORIES:Webinar
ATTACH;FMTTYPE=image/webp:https://www.cadmicro.com/wp-content/uploads/HP-Polymers.webp
END:VEVENT
END:VCALENDAR