BEGIN:VCALENDAR
VERSION:2.0
PRODID:-//CAD MicroSolutions Inc. - ECPv6.15.15//NONSGML v1.0//EN
CALSCALE:GREGORIAN
METHOD:PUBLISH
X-WR-CALNAME:CAD MicroSolutions Inc.
X-ORIGINAL-URL:https://www.cadmicro.com
X-WR-CALDESC:Events for CAD MicroSolutions Inc.
REFRESH-INTERVAL;VALUE=DURATION:PT1H
X-Robots-Tag:noindex
X-PUBLISHED-TTL:PT1H
BEGIN:VTIMEZONE
TZID:America/Toronto
BEGIN:DAYLIGHT
TZOFFSETFROM:-0500
TZOFFSETTO:-0400
TZNAME:EDT
DTSTART:20240310T070000
END:DAYLIGHT
BEGIN:STANDARD
TZOFFSETFROM:-0400
TZOFFSETTO:-0500
TZNAME:EST
DTSTART:20241103T060000
END:STANDARD
BEGIN:DAYLIGHT
TZOFFSETFROM:-0500
TZOFFSETTO:-0400
TZNAME:EDT
DTSTART:20250309T070000
END:DAYLIGHT
BEGIN:STANDARD
TZOFFSETFROM:-0400
TZOFFSETTO:-0500
TZNAME:EST
DTSTART:20251102T060000
END:STANDARD
BEGIN:DAYLIGHT
TZOFFSETFROM:-0500
TZOFFSETTO:-0400
TZNAME:EDT
DTSTART:20260308T070000
END:DAYLIGHT
BEGIN:STANDARD
TZOFFSETFROM:-0400
TZOFFSETTO:-0500
TZNAME:EST
DTSTART:20261101T060000
END:STANDARD
END:VTIMEZONE
BEGIN:VEVENT
DTSTART;TZID=America/Toronto:20250421T090000
DTEND;TZID=America/Toronto:20250501T120000
DTSTAMP:20260421T183827
CREATED:20250313T151404Z
LAST-MODIFIED:20250313T151521Z
UID:72621-1745226000-1746100800@www.cadmicro.com
SUMMARY:SOLIDWORKS Essentials - Online
DESCRIPTION:Live				\n				\n					\n		\n				\n			\n						\n				\n					Webinar				\n				\n					\n		\n					\n		\n				\n				\n					July 29 @ 11am ET				\n				\n				\n				\n							\n			\n						\n		\n						\n				\n				\n				\n					Life-Changing Prosthetics for Kids: A Fireside Chat on Innovation and Compassionate Care				\n				\n					\n		\n					\n		\n				\n						\n					\n			\n						\n				\n									Discover how purpose-driven innovation is transforming lives—one prosthesis at a time. In this inspiring session\, you’ll hear the story behind a groundbreaking collaboration between the Limb Kind Foundation and HP Inc. that brought life-changing prosthetic care to children in Kenya. As part of this mission\, the team produced five custom prostheses to help restore mobility to young patients in need. The Limb Kind Foundation is a U.S.-based nonprofit dedicated to restoring mobility to children with limb loss by providing them with life-changing prostheses. This fireside chat brings together the experts and partners who made it happen—sharing how they transitioned from traditional prosthetic fabrication to a fully digital workflow. From scanning and design at Macy O&P to final part production using HP’s Multi Jet Fusion (MJF) technology and finishing by ABCorp\, you’ll get a behind-the-scenes look at how additive manufacturing is expanding access to quality care in underserved communities. What You’ll Learn✔️ What it takes to implement a fully digital prosthetic workflow—from scanning to socket design✔️ How HP MJF enabled the rapid production of custom prostheses in a humanitarian setting✔️ How cross-continental partnerships can drive scalable\, compassionate impact✔️ Real-world insight into the application of 3D printing in orthotic and prosthetic care Register NowBe part of a powerful story where innovation meets compassion—and see how 3D printing is reshaping what’s possible in prosthetic care. 								\n				\n				\n				\n									\n					\n						\n									Register Now
URL:https://www.cadmicro.com/event/solidworks-essentials-online-3/
CATEGORIES:Training
ATTACH;FMTTYPE=image/jpeg:https://www.cadmicro.com/wp-content/uploads/SW-CAD-Training-Thumbnail.jpg
ORGANIZER;CN="CAD Micro":MAILTO:contact@cadmicro.com
END:VEVENT
BEGIN:VEVENT
DTSTART;TZID=America/Toronto:20250422T130000
DTEND;TZID=America/Toronto:20250501T160000
DTSTAMP:20260421T183827
CREATED:20240814T162323Z
LAST-MODIFIED:20250313T193839Z
UID:65310-1745326800-1746115200@www.cadmicro.com
SUMMARY:CAMWorks 3 Axis Milling – Online
DESCRIPTION:Live				\n				\n					\n		\n				\n			\n						\n				\n					Webinar				\n				\n					\n		\n					\n		\n				\n				\n					July 29 @ 11am ET				\n				\n				\n				\n							\n			\n						\n		\n						\n				\n				\n				\n					Life-Changing Prosthetics for Kids: A Fireside Chat on Innovation and Compassionate Care				\n				\n					\n		\n					\n		\n				\n						\n					\n			\n						\n				\n									Discover how purpose-driven innovation is transforming lives—one prosthesis at a time. In this inspiring session\, you’ll hear the story behind a groundbreaking collaboration between the Limb Kind Foundation and HP Inc. that brought life-changing prosthetic care to children in Kenya. As part of this mission\, the team produced five custom prostheses to help restore mobility to young patients in need. The Limb Kind Foundation is a U.S.-based nonprofit dedicated to restoring mobility to children with limb loss by providing them with life-changing prostheses. This fireside chat brings together the experts and partners who made it happen—sharing how they transitioned from traditional prosthetic fabrication to a fully digital workflow. From scanning and design at Macy O&P to final part production using HP’s Multi Jet Fusion (MJF) technology and finishing by ABCorp\, you’ll get a behind-the-scenes look at how additive manufacturing is expanding access to quality care in underserved communities. What You’ll Learn✔️ What it takes to implement a fully digital prosthetic workflow—from scanning to socket design✔️ How HP MJF enabled the rapid production of custom prostheses in a humanitarian setting✔️ How cross-continental partnerships can drive scalable\, compassionate impact✔️ Real-world insight into the application of 3D printing in orthotic and prosthetic care Register NowBe part of a powerful story where innovation meets compassion—and see how 3D printing is reshaping what’s possible in prosthetic care. 								\n				\n				\n				\n									\n					\n						\n									Register Now
URL:https://www.cadmicro.com/event/camworks-3-axis-online/
CATEGORIES:Training
ATTACH;FMTTYPE=image/jpeg:https://www.cadmicro.com/wp-content/uploads/CAM-Training-Thumbnail.jpg
ORGANIZER;CN="CAD Micro":MAILTO:contact@cadmicro.com
END:VEVENT
BEGIN:VEVENT
DTSTART;TZID=America/Toronto:20250428T130000
DTEND;TZID=America/Toronto:20250501T160000
DTSTAMP:20260421T183827
CREATED:20250313T203233Z
LAST-MODIFIED:20250314T170950Z
UID:72748-1745845200-1746115200@www.cadmicro.com
SUMMARY:SOLIDWORKS Tune Up - Online
DESCRIPTION:Live				\n				\n					\n		\n				\n			\n						\n				\n					Webinar				\n				\n					\n		\n					\n		\n				\n				\n					July 29 @ 11am ET				\n				\n				\n				\n							\n			\n						\n		\n						\n				\n				\n				\n					Life-Changing Prosthetics for Kids: A Fireside Chat on Innovation and Compassionate Care				\n				\n					\n		\n					\n		\n				\n						\n					\n			\n						\n				\n									Discover how purpose-driven innovation is transforming lives—one prosthesis at a time. In this inspiring session\, you’ll hear the story behind a groundbreaking collaboration between the Limb Kind Foundation and HP Inc. that brought life-changing prosthetic care to children in Kenya. As part of this mission\, the team produced five custom prostheses to help restore mobility to young patients in need. The Limb Kind Foundation is a U.S.-based nonprofit dedicated to restoring mobility to children with limb loss by providing them with life-changing prostheses. This fireside chat brings together the experts and partners who made it happen—sharing how they transitioned from traditional prosthetic fabrication to a fully digital workflow. From scanning and design at Macy O&P to final part production using HP’s Multi Jet Fusion (MJF) technology and finishing by ABCorp\, you’ll get a behind-the-scenes look at how additive manufacturing is expanding access to quality care in underserved communities. What You’ll Learn✔️ What it takes to implement a fully digital prosthetic workflow—from scanning to socket design✔️ How HP MJF enabled the rapid production of custom prostheses in a humanitarian setting✔️ How cross-continental partnerships can drive scalable\, compassionate impact✔️ Real-world insight into the application of 3D printing in orthotic and prosthetic care Register NowBe part of a powerful story where innovation meets compassion—and see how 3D printing is reshaping what’s possible in prosthetic care. 								\n				\n				\n				\n									\n					\n						\n									Register Now
URL:https://www.cadmicro.com/event/solidworks-tune-up-online/
CATEGORIES:Training
ATTACH;FMTTYPE=image/jpeg:https://www.cadmicro.com/wp-content/uploads/SW-CAD-Training-Thumbnail.jpg
ORGANIZER;CN="CAD Micro":MAILTO:contact@cadmicro.com
END:VEVENT
BEGIN:VEVENT
DTSTART;TZID=America/Toronto:20250428T130000
DTEND;TZID=America/Toronto:20250508T160000
DTSTAMP:20260421T183827
CREATED:20250313T151626Z
LAST-MODIFIED:20250313T151812Z
UID:72627-1745845200-1746720000@www.cadmicro.com
SUMMARY:SOLIDWORKS Essentials - Online
DESCRIPTION:Live				\n				\n					\n		\n				\n			\n						\n				\n					Webinar				\n				\n					\n		\n					\n		\n				\n				\n					July 29 @ 11am ET				\n				\n				\n				\n							\n			\n						\n		\n						\n				\n				\n				\n					Life-Changing Prosthetics for Kids: A Fireside Chat on Innovation and Compassionate Care				\n				\n					\n		\n					\n		\n				\n						\n					\n			\n						\n				\n									Discover how purpose-driven innovation is transforming lives—one prosthesis at a time. In this inspiring session\, you’ll hear the story behind a groundbreaking collaboration between the Limb Kind Foundation and HP Inc. that brought life-changing prosthetic care to children in Kenya. As part of this mission\, the team produced five custom prostheses to help restore mobility to young patients in need. The Limb Kind Foundation is a U.S.-based nonprofit dedicated to restoring mobility to children with limb loss by providing them with life-changing prostheses. This fireside chat brings together the experts and partners who made it happen—sharing how they transitioned from traditional prosthetic fabrication to a fully digital workflow. From scanning and design at Macy O&P to final part production using HP’s Multi Jet Fusion (MJF) technology and finishing by ABCorp\, you’ll get a behind-the-scenes look at how additive manufacturing is expanding access to quality care in underserved communities. What You’ll Learn✔️ What it takes to implement a fully digital prosthetic workflow—from scanning to socket design✔️ How HP MJF enabled the rapid production of custom prostheses in a humanitarian setting✔️ How cross-continental partnerships can drive scalable\, compassionate impact✔️ Real-world insight into the application of 3D printing in orthotic and prosthetic care Register NowBe part of a powerful story where innovation meets compassion—and see how 3D printing is reshaping what’s possible in prosthetic care. 								\n				\n				\n				\n									\n					\n						\n									Register Now
URL:https://www.cadmicro.com/event/solidworks-essentials-online-4/
CATEGORIES:Training
ATTACH;FMTTYPE=image/jpeg:https://www.cadmicro.com/wp-content/uploads/SW-CAD-Training-Thumbnail.jpg
ORGANIZER;CN="CAD Micro":MAILTO:contact@cadmicro.com
END:VEVENT
BEGIN:VEVENT
DTSTART;TZID=America/Toronto:20250430T110000
DTEND;TZID=America/Toronto:20250430T113000
DTSTAMP:20260421T183827
CREATED:20250422T193643Z
LAST-MODIFIED:20250422T194846Z
UID:73735-1746010800-1746012600@www.cadmicro.com
SUMMARY:Accelerating System Design with Integrated Analysis in Allegro X
DESCRIPTION:Live				\n				\n					\n		\n				\n			\n						\n				\n					Webinar				\n				\n					\n		\n					\n		\n				\n				\n					July 29 @ 11am ET				\n				\n				\n				\n							\n			\n						\n		\n						\n				\n				\n				\n					Life-Changing Prosthetics for Kids: A Fireside Chat on Innovation and Compassionate Care				\n				\n					\n		\n					\n		\n				\n						\n					\n			\n						\n				\n									Discover how purpose-driven innovation is transforming lives—one prosthesis at a time. In this inspiring session\, you’ll hear the story behind a groundbreaking collaboration between the Limb Kind Foundation and HP Inc. that brought life-changing prosthetic care to children in Kenya. As part of this mission\, the team produced five custom prostheses to help restore mobility to young patients in need. The Limb Kind Foundation is a U.S.-based nonprofit dedicated to restoring mobility to children with limb loss by providing them with life-changing prostheses. This fireside chat brings together the experts and partners who made it happen—sharing how they transitioned from traditional prosthetic fabrication to a fully digital workflow. From scanning and design at Macy O&P to final part production using HP’s Multi Jet Fusion (MJF) technology and finishing by ABCorp\, you’ll get a behind-the-scenes look at how additive manufacturing is expanding access to quality care in underserved communities. What You’ll Learn✔️ What it takes to implement a fully digital prosthetic workflow—from scanning to socket design✔️ How HP MJF enabled the rapid production of custom prostheses in a humanitarian setting✔️ How cross-continental partnerships can drive scalable\, compassionate impact✔️ Real-world insight into the application of 3D printing in orthotic and prosthetic care Register NowBe part of a powerful story where innovation meets compassion—and see how 3D printing is reshaping what’s possible in prosthetic care. 								\n				\n				\n				\n									\n					\n						\n									Register Now
URL:https://www.cadmicro.com/event/accelerating-system-design-with-integrated-analysis-in-allegro-x/
CATEGORIES:Webinar
ATTACH;FMTTYPE=image/png:https://www.cadmicro.com/wp-content/uploads/pcb-website.png
END:VEVENT
END:VCALENDAR