BEGIN:VCALENDAR
VERSION:2.0
PRODID:-//CAD MicroSolutions Inc. - ECPv6.15.15//NONSGML v1.0//EN
CALSCALE:GREGORIAN
METHOD:PUBLISH
X-WR-CALNAME:CAD MicroSolutions Inc.
X-ORIGINAL-URL:https://www.cadmicro.com
X-WR-CALDESC:Events for CAD MicroSolutions Inc.
REFRESH-INTERVAL;VALUE=DURATION:PT1H
X-Robots-Tag:noindex
X-PUBLISHED-TTL:PT1H
BEGIN:VTIMEZONE
TZID:America/Toronto
BEGIN:DAYLIGHT
TZOFFSETFROM:-0500
TZOFFSETTO:-0400
TZNAME:EDT
DTSTART:20240310T070000
END:DAYLIGHT
BEGIN:STANDARD
TZOFFSETFROM:-0400
TZOFFSETTO:-0500
TZNAME:EST
DTSTART:20241103T060000
END:STANDARD
BEGIN:DAYLIGHT
TZOFFSETFROM:-0500
TZOFFSETTO:-0400
TZNAME:EDT
DTSTART:20250309T070000
END:DAYLIGHT
BEGIN:STANDARD
TZOFFSETFROM:-0400
TZOFFSETTO:-0500
TZNAME:EST
DTSTART:20251102T060000
END:STANDARD
BEGIN:DAYLIGHT
TZOFFSETFROM:-0500
TZOFFSETTO:-0400
TZNAME:EDT
DTSTART:20260308T070000
END:DAYLIGHT
BEGIN:STANDARD
TZOFFSETFROM:-0400
TZOFFSETTO:-0500
TZNAME:EST
DTSTART:20261101T060000
END:STANDARD
END:VTIMEZONE
BEGIN:VEVENT
DTSTART;TZID=America/Toronto:20250414T090000
DTEND;TZID=America/Toronto:20250417T170000
DTSTAMP:20260421T183909
CREATED:20250314T145714Z
LAST-MODIFIED:20250314T172016Z
UID:72808-1744621200-1744909200@www.cadmicro.com
SUMMARY:DriveWorks Pro Administrator - Online
DESCRIPTION:Live				\n				\n					\n		\n				\n			\n						\n				\n					Webinar				\n				\n					\n		\n					\n		\n				\n				\n					July 29 @ 11am ET				\n				\n				\n				\n							\n			\n						\n		\n						\n				\n				\n				\n					Life-Changing Prosthetics for Kids: A Fireside Chat on Innovation and Compassionate Care				\n				\n					\n		\n					\n		\n				\n						\n					\n			\n						\n				\n									Discover how purpose-driven innovation is transforming lives—one prosthesis at a time. In this inspiring session\, you’ll hear the story behind a groundbreaking collaboration between the Limb Kind Foundation and HP Inc. that brought life-changing prosthetic care to children in Kenya. As part of this mission\, the team produced five custom prostheses to help restore mobility to young patients in need. The Limb Kind Foundation is a U.S.-based nonprofit dedicated to restoring mobility to children with limb loss by providing them with life-changing prostheses. This fireside chat brings together the experts and partners who made it happen—sharing how they transitioned from traditional prosthetic fabrication to a fully digital workflow. From scanning and design at Macy O&P to final part production using HP’s Multi Jet Fusion (MJF) technology and finishing by ABCorp\, you’ll get a behind-the-scenes look at how additive manufacturing is expanding access to quality care in underserved communities. What You’ll Learn✔️ What it takes to implement a fully digital prosthetic workflow—from scanning to socket design✔️ How HP MJF enabled the rapid production of custom prostheses in a humanitarian setting✔️ How cross-continental partnerships can drive scalable\, compassionate impact✔️ Real-world insight into the application of 3D printing in orthotic and prosthetic care Register NowBe part of a powerful story where innovation meets compassion—and see how 3D printing is reshaping what’s possible in prosthetic care. 								\n				\n				\n				\n									\n					\n						\n									Register Now
URL:https://www.cadmicro.com/event/driveworks-pro-administrator/
CATEGORIES:Training
ATTACH;FMTTYPE=image/jpeg:https://www.cadmicro.com/wp-content/uploads/Training-Banner-Image-1-1.jpg
ORGANIZER;CN="CAD Micro":MAILTO:contact@cadmicro.com
END:VEVENT
BEGIN:VEVENT
DTSTART;TZID=America/Toronto:20250414T130000
DTEND;TZID=America/Toronto:20250418T160000
DTSTAMP:20260421T183909
CREATED:20250314T144854Z
LAST-MODIFIED:20250314T171845Z
UID:72802-1744635600-1744992000@www.cadmicro.com
SUMMARY:SOLIDWORKS Composer Essentials
DESCRIPTION:Live				\n				\n					\n		\n				\n			\n						\n				\n					Webinar				\n				\n					\n		\n					\n		\n				\n				\n					July 29 @ 11am ET				\n				\n				\n				\n							\n			\n						\n		\n						\n				\n				\n				\n					Life-Changing Prosthetics for Kids: A Fireside Chat on Innovation and Compassionate Care				\n				\n					\n		\n					\n		\n				\n						\n					\n			\n						\n				\n									Discover how purpose-driven innovation is transforming lives—one prosthesis at a time. In this inspiring session\, you’ll hear the story behind a groundbreaking collaboration between the Limb Kind Foundation and HP Inc. that brought life-changing prosthetic care to children in Kenya. As part of this mission\, the team produced five custom prostheses to help restore mobility to young patients in need. The Limb Kind Foundation is a U.S.-based nonprofit dedicated to restoring mobility to children with limb loss by providing them with life-changing prostheses. This fireside chat brings together the experts and partners who made it happen—sharing how they transitioned from traditional prosthetic fabrication to a fully digital workflow. From scanning and design at Macy O&P to final part production using HP’s Multi Jet Fusion (MJF) technology and finishing by ABCorp\, you’ll get a behind-the-scenes look at how additive manufacturing is expanding access to quality care in underserved communities. What You’ll Learn✔️ What it takes to implement a fully digital prosthetic workflow—from scanning to socket design✔️ How HP MJF enabled the rapid production of custom prostheses in a humanitarian setting✔️ How cross-continental partnerships can drive scalable\, compassionate impact✔️ Real-world insight into the application of 3D printing in orthotic and prosthetic care Register NowBe part of a powerful story where innovation meets compassion—and see how 3D printing is reshaping what’s possible in prosthetic care. 								\n				\n				\n				\n									\n					\n						\n									Register Now
URL:https://www.cadmicro.com/event/solidworks-composer-essentials/
CATEGORIES:Training
ATTACH;FMTTYPE=image/jpeg:https://www.cadmicro.com/wp-content/uploads/SW-CAD-Training-Thumbnail.jpg
ORGANIZER;CN="CAD Micro":MAILTO:contact@cadmicro.com
END:VEVENT
BEGIN:VEVENT
DTSTART;TZID=America/Toronto:20250415T100000
DTEND;TZID=America/Toronto:20250415T110000
DTSTAMP:20260421T183909
CREATED:20240925T172053Z
LAST-MODIFIED:20250314T171413Z
UID:66433-1744711200-1744714800@www.cadmicro.com
SUMMARY:Introduction to Using DriveWorks as a 3D Sales Configurator
DESCRIPTION:Live				\n				\n					\n		\n				\n			\n						\n				\n					Webinar				\n				\n					\n		\n					\n		\n				\n				\n					July 29 @ 11am ET				\n				\n				\n				\n							\n			\n						\n		\n						\n				\n				\n				\n					Life-Changing Prosthetics for Kids: A Fireside Chat on Innovation and Compassionate Care				\n				\n					\n		\n					\n		\n				\n						\n					\n			\n						\n				\n									Discover how purpose-driven innovation is transforming lives—one prosthesis at a time. In this inspiring session\, you’ll hear the story behind a groundbreaking collaboration between the Limb Kind Foundation and HP Inc. that brought life-changing prosthetic care to children in Kenya. As part of this mission\, the team produced five custom prostheses to help restore mobility to young patients in need. The Limb Kind Foundation is a U.S.-based nonprofit dedicated to restoring mobility to children with limb loss by providing them with life-changing prostheses. This fireside chat brings together the experts and partners who made it happen—sharing how they transitioned from traditional prosthetic fabrication to a fully digital workflow. From scanning and design at Macy O&P to final part production using HP’s Multi Jet Fusion (MJF) technology and finishing by ABCorp\, you’ll get a behind-the-scenes look at how additive manufacturing is expanding access to quality care in underserved communities. What You’ll Learn✔️ What it takes to implement a fully digital prosthetic workflow—from scanning to socket design✔️ How HP MJF enabled the rapid production of custom prostheses in a humanitarian setting✔️ How cross-continental partnerships can drive scalable\, compassionate impact✔️ Real-world insight into the application of 3D printing in orthotic and prosthetic care Register NowBe part of a powerful story where innovation meets compassion—and see how 3D printing is reshaping what’s possible in prosthetic care. 								\n				\n				\n				\n									\n					\n						\n									Register Now
URL:https://www.cadmicro.com/event/introduction-to-using-driveworks-as-a-3d-sales-configurator/
CATEGORIES:Webinar
ATTACH;FMTTYPE=image/jpeg:https://www.cadmicro.com/wp-content/uploads/DriveWorks-3D-Sales-Configurator-Website.jpg
END:VEVENT
BEGIN:VEVENT
DTSTART;TZID=America/Toronto:20250415T130000
DTEND;TZID=America/Toronto:20250416T160000
DTSTAMP:20260421T183909
CREATED:20250314T151520Z
LAST-MODIFIED:20250314T171530Z
UID:72815-1744722000-1744819200@www.cadmicro.com
SUMMARY:SOLIDWORKS PDM IT Administrator - Online
DESCRIPTION:Live				\n				\n					\n		\n				\n			\n						\n				\n					Webinar				\n				\n					\n		\n					\n		\n				\n				\n					July 29 @ 11am ET				\n				\n				\n				\n							\n			\n						\n		\n						\n				\n				\n				\n					Life-Changing Prosthetics for Kids: A Fireside Chat on Innovation and Compassionate Care				\n				\n					\n		\n					\n		\n				\n						\n					\n			\n						\n				\n									Discover how purpose-driven innovation is transforming lives—one prosthesis at a time. In this inspiring session\, you’ll hear the story behind a groundbreaking collaboration between the Limb Kind Foundation and HP Inc. that brought life-changing prosthetic care to children in Kenya. As part of this mission\, the team produced five custom prostheses to help restore mobility to young patients in need. The Limb Kind Foundation is a U.S.-based nonprofit dedicated to restoring mobility to children with limb loss by providing them with life-changing prostheses. This fireside chat brings together the experts and partners who made it happen—sharing how they transitioned from traditional prosthetic fabrication to a fully digital workflow. From scanning and design at Macy O&P to final part production using HP’s Multi Jet Fusion (MJF) technology and finishing by ABCorp\, you’ll get a behind-the-scenes look at how additive manufacturing is expanding access to quality care in underserved communities. What You’ll Learn✔️ What it takes to implement a fully digital prosthetic workflow—from scanning to socket design✔️ How HP MJF enabled the rapid production of custom prostheses in a humanitarian setting✔️ How cross-continental partnerships can drive scalable\, compassionate impact✔️ Real-world insight into the application of 3D printing in orthotic and prosthetic care Register NowBe part of a powerful story where innovation meets compassion—and see how 3D printing is reshaping what’s possible in prosthetic care. 								\n				\n				\n				\n									\n					\n						\n									Register Now
URL:https://www.cadmicro.com/event/solidworks-pdm-it-administrator-online/
CATEGORIES:Training
ATTACH;FMTTYPE=image/jpeg:https://www.cadmicro.com/wp-content/uploads/PDM-Training-Thumbnail.jpg
ORGANIZER;CN="CAD Micro":MAILTO:contact@cadmicro.com
END:VEVENT
END:VCALENDAR