BEGIN:VCALENDAR
VERSION:2.0
PRODID:-//CAD MicroSolutions Inc. - ECPv6.15.15//NONSGML v1.0//EN
CALSCALE:GREGORIAN
METHOD:PUBLISH
X-WR-CALNAME:CAD MicroSolutions Inc.
X-ORIGINAL-URL:https://www.cadmicro.com
X-WR-CALDESC:Events for CAD MicroSolutions Inc.
REFRESH-INTERVAL;VALUE=DURATION:PT1H
X-Robots-Tag:noindex
X-PUBLISHED-TTL:PT1H
BEGIN:VTIMEZONE
TZID:America/Toronto
BEGIN:DAYLIGHT
TZOFFSETFROM:-0500
TZOFFSETTO:-0400
TZNAME:EDT
DTSTART:20230312T070000
END:DAYLIGHT
BEGIN:STANDARD
TZOFFSETFROM:-0400
TZOFFSETTO:-0500
TZNAME:EST
DTSTART:20231105T060000
END:STANDARD
BEGIN:DAYLIGHT
TZOFFSETFROM:-0500
TZOFFSETTO:-0400
TZNAME:EDT
DTSTART:20240310T070000
END:DAYLIGHT
BEGIN:STANDARD
TZOFFSETFROM:-0400
TZOFFSETTO:-0500
TZNAME:EST
DTSTART:20241103T060000
END:STANDARD
BEGIN:DAYLIGHT
TZOFFSETFROM:-0500
TZOFFSETTO:-0400
TZNAME:EDT
DTSTART:20250309T070000
END:DAYLIGHT
BEGIN:STANDARD
TZOFFSETFROM:-0400
TZOFFSETTO:-0500
TZNAME:EST
DTSTART:20251102T060000
END:STANDARD
END:VTIMEZONE
BEGIN:VEVENT
DTSTART;TZID=America/Toronto:20241016T110000
DTEND;TZID=America/Toronto:20241016T120000
DTSTAMP:20260421T045354
CREATED:20240926T130037Z
LAST-MODIFIED:20240926T204224Z
UID:66456-1729076400-1729080000@www.cadmicro.com
SUMMARY:What's New in OrCAD X 24.1 
DESCRIPTION:Live				\n				\n					\n		\n				\n			\n						\n				\n					Webinar				\n				\n					\n		\n					\n		\n				\n				\n					October 16 @ 11am ET				\n				\n				\n				\n							\n			\n						\n		\n						\n				\n				\n				\n					What’s New in OrCAD X 24.1 				\n				\n					\n		\n					\n		\n				\n						\n					\n			\n						\n				\n									Whether you’re an experienced user or just getting started\, join Cadence Design Systems for this webinar to learn how the latest updates and enhancements within OrCAD X Capture\, PSpice\, and OrCAD X Presto PCB Editor can help you design fast\, correct\, and connected.  The presentation covers everything from data management to automation\, and usability to integrated analyses\, along with live demos and a Q&A. Here are some topics that will be covered:  Overview of OrCAD X OnCloud Data ManagementOverview of PSpice 24.1 featuresPredictive analysis in Live BOM – viewing historical data and forecasting part duration Security\, access control\, and data residency updates to WorkspacesCreating footprints from templates using the Footprint WizardUtilizing the docked constraint panel for basic and advanced rulesNew display and navigation options Advanced move commandImpedance and coupling workflows for signal integrity analysis  SPEAKERS: John Carney\, Product Engineer Architect\, Cadence HOST: Supreeth Mannava\, Senior Principal Product Manager\, Cadence   Save your spot now\, we hope to see you there! 								\n				\n				\n				\n									\n					\n						\n									Register Now
URL:https://www.cadmicro.com/event/whats-new-in-orcad-x-24-1/
CATEGORIES:Webinar
ATTACH;FMTTYPE=image/png:https://www.cadmicro.com/wp-content/uploads/Picture2.png
END:VEVENT
END:VCALENDAR