BEGIN:VCALENDAR
VERSION:2.0
PRODID:-//CAD MicroSolutions Inc. - ECPv6.15.15//NONSGML v1.0//EN
CALSCALE:GREGORIAN
METHOD:PUBLISH
X-WR-CALNAME:CAD MicroSolutions Inc.
X-ORIGINAL-URL:https://www.cadmicro.com
X-WR-CALDESC:Events for CAD MicroSolutions Inc.
REFRESH-INTERVAL;VALUE=DURATION:PT1H
X-Robots-Tag:noindex
X-PUBLISHED-TTL:PT1H
BEGIN:VTIMEZONE
TZID:America/Toronto
BEGIN:DAYLIGHT
TZOFFSETFROM:-0500
TZOFFSETTO:-0400
TZNAME:EDT
DTSTART:20240310T070000
END:DAYLIGHT
BEGIN:STANDARD
TZOFFSETFROM:-0400
TZOFFSETTO:-0500
TZNAME:EST
DTSTART:20241103T060000
END:STANDARD
BEGIN:DAYLIGHT
TZOFFSETFROM:-0500
TZOFFSETTO:-0400
TZNAME:EDT
DTSTART:20250309T070000
END:DAYLIGHT
BEGIN:STANDARD
TZOFFSETFROM:-0400
TZOFFSETTO:-0500
TZNAME:EST
DTSTART:20251102T060000
END:STANDARD
BEGIN:DAYLIGHT
TZOFFSETFROM:-0500
TZOFFSETTO:-0400
TZNAME:EDT
DTSTART:20260308T070000
END:DAYLIGHT
BEGIN:STANDARD
TZOFFSETFROM:-0400
TZOFFSETTO:-0500
TZNAME:EST
DTSTART:20261101T060000
END:STANDARD
END:VTIMEZONE
BEGIN:VEVENT
DTSTART;TZID=America/Toronto:20250225T110000
DTEND;TZID=America/Toronto:20250225T113000
DTSTAMP:20260421T170858
CREATED:20250210T173203Z
LAST-MODIFIED:20250210T173525Z
UID:71777-1740481200-1740483000@www.cadmicro.com
SUMMARY:Teeing Off Together: Plastics and Metals 3D Printing for Golf Club Design
DESCRIPTION:Live				\n				\n					\n		\n				\n			\n						\n				\n					Webinar				\n				\n					\n		\n					\n		\n				\n				\n					February 25 @ 11am ET				\n				\n				\n				\n							\n			\n						\n		\n						\n				\n				\n				\n					Teeing Off Together: Plastics and Metals 3D Printing for Golf Club Design				\n				\n					\n		\n					\n		\n				\n						\n					\n			\n						\n				\n									Discover how cutting-edge 3D printing technology is revolutionizing the world of golf. In this exclusive webinar by HP\, join Katie Calderon\, founder of Club Girl Golf\, and Khanh Nguyen\, HP Applications Engineer\, as they explore the power of combining plastics and metals 3D printing to create innovative\, custom golf clubs. Learn how Katie leverages HP’s advanced additive manufacturing technologies to design precision-crafted golf clubs tailored specifically for women\, including the groundbreaking Monarch Putter. Gain insights into the engineering and applications behind these technologies from Khanh\, who helped bring the first 3D-printed golf club to market. Whether you’re passionate about golf\, innovation\, or advanced manufacturing\, this webinar is your front-row seat to the future of the sport. Save your spot now\, we hope to see you there! 								\n				\n				\n				\n									\n					\n						\n									Register Now
URL:https://www.cadmicro.com/event/teeing-off-together-plastics-and-metals-3d-printing-for-golf-club-design/
CATEGORIES:Webinar
ATTACH;FMTTYPE=image/jpeg:https://www.cadmicro.com/wp-content/uploads/e9eabf53-5e0a-4727-b5dd-07ea233194e8.jpg
END:VEVENT
END:VCALENDAR