BEGIN:VCALENDAR
VERSION:2.0
PRODID:-//CAD MicroSolutions Inc. - ECPv6.15.15//NONSGML v1.0//EN
CALSCALE:GREGORIAN
METHOD:PUBLISH
X-WR-CALNAME:CAD MicroSolutions Inc.
X-ORIGINAL-URL:https://www.cadmicro.com
X-WR-CALDESC:Events for CAD MicroSolutions Inc.
REFRESH-INTERVAL;VALUE=DURATION:PT1H
X-Robots-Tag:noindex
X-PUBLISHED-TTL:PT1H
BEGIN:VTIMEZONE
TZID:America/Toronto
BEGIN:DAYLIGHT
TZOFFSETFROM:-0500
TZOFFSETTO:-0400
TZNAME:EDT
DTSTART:20240310T070000
END:DAYLIGHT
BEGIN:STANDARD
TZOFFSETFROM:-0400
TZOFFSETTO:-0500
TZNAME:EST
DTSTART:20241103T060000
END:STANDARD
BEGIN:DAYLIGHT
TZOFFSETFROM:-0500
TZOFFSETTO:-0400
TZNAME:EDT
DTSTART:20250309T070000
END:DAYLIGHT
BEGIN:STANDARD
TZOFFSETFROM:-0400
TZOFFSETTO:-0500
TZNAME:EST
DTSTART:20251102T060000
END:STANDARD
BEGIN:DAYLIGHT
TZOFFSETFROM:-0500
TZOFFSETTO:-0400
TZNAME:EDT
DTSTART:20260308T070000
END:DAYLIGHT
BEGIN:STANDARD
TZOFFSETFROM:-0400
TZOFFSETTO:-0500
TZNAME:EST
DTSTART:20261101T060000
END:STANDARD
END:VTIMEZONE
BEGIN:VEVENT
DTSTART;TZID=America/Toronto:20250527T130000
DTEND;TZID=America/Toronto:20250529T160000
DTSTAMP:20260421T202019
CREATED:20250313T205103Z
LAST-MODIFIED:20250512T192419Z
UID:72766-1748350800-1748534400@www.cadmicro.com
SUMMARY:SOLIDWORKS Weldments - Online
DESCRIPTION:SOLIDWORKS Weldments – Online				\n				\n				\n				\n							\n			\n						\n		\n						\n				\n				\n				\n					May 27 - 29 | 1pm - 4pm ET				\n				\n					\n		\n					\n		\n				\n						\n					\n			\n						\n				\n									SOLIDWORKS Weldments – 3 DaysCourse Description SOLIDWORKS Weldments course will teach you how to create welded structures with standard structural members and weld beads. Prerequisites SOLIDWORKS Essentials or equivalent\, Mechanical design experience; experience with the Windows™ operating system. Course Components: Weldment FeaturesWorking With WeldmentsConfiguring And Detailing WeldmentsWorking With Bent Structural MembersIntroduction To Structure System  To enquire about this course\, please fill the form and we will contact you shortly. 								\n				\n					\n		\n				\n			\n						\n				\n					Inquire Now				\n				\n				\n				\n									Complete the form below and a member of our team will contact you shortly to confirm your interest.
URL:https://www.cadmicro.com/event/solidworks-weldments-online/
CATEGORIES:Training
ATTACH;FMTTYPE=image/jpeg:https://www.cadmicro.com/wp-content/uploads/SW-CAD-Training-Thumbnail.jpg
ORGANIZER;CN="CAD Micro":MAILTO:contact@cadmicro.com
END:VEVENT
END:VCALENDAR