BEGIN:VCALENDAR
VERSION:2.0
PRODID:-//CAD MicroSolutions Inc. - ECPv6.15.15//NONSGML v1.0//EN
CALSCALE:GREGORIAN
METHOD:PUBLISH
X-WR-CALNAME:CAD MicroSolutions Inc.
X-ORIGINAL-URL:https://www.cadmicro.com
X-WR-CALDESC:Events for CAD MicroSolutions Inc.
REFRESH-INTERVAL;VALUE=DURATION:PT1H
X-Robots-Tag:noindex
X-PUBLISHED-TTL:PT1H
BEGIN:VTIMEZONE
TZID:America/Toronto
BEGIN:DAYLIGHT
TZOFFSETFROM:-0500
TZOFFSETTO:-0400
TZNAME:EDT
DTSTART:20240310T070000
END:DAYLIGHT
BEGIN:STANDARD
TZOFFSETFROM:-0400
TZOFFSETTO:-0500
TZNAME:EST
DTSTART:20241103T060000
END:STANDARD
BEGIN:DAYLIGHT
TZOFFSETFROM:-0500
TZOFFSETTO:-0400
TZNAME:EDT
DTSTART:20250309T070000
END:DAYLIGHT
BEGIN:STANDARD
TZOFFSETFROM:-0400
TZOFFSETTO:-0500
TZNAME:EST
DTSTART:20251102T060000
END:STANDARD
BEGIN:DAYLIGHT
TZOFFSETFROM:-0500
TZOFFSETTO:-0400
TZNAME:EDT
DTSTART:20260308T070000
END:DAYLIGHT
BEGIN:STANDARD
TZOFFSETFROM:-0400
TZOFFSETTO:-0500
TZNAME:EST
DTSTART:20261101T060000
END:STANDARD
END:VTIMEZONE
BEGIN:VEVENT
DTSTART;TZID=America/Toronto:20250416T110000
DTEND;TZID=America/Toronto:20250416T120000
DTSTAMP:20260421T190046
CREATED:20250324T224428Z
LAST-MODIFIED:20250409T202758Z
UID:73073-1744801200-1744804800@www.cadmicro.com
SUMMARY:High-Speed Layout in OrCAD X - It’s Simpler Than You Think!
DESCRIPTION:Live				\n				\n					\n		\n				\n			\n						\n				\n					Webinar				\n				\n					\n		\n					\n		\n				\n				\n					April 16th @  11am ET				\n				\n				\n				\n							\n			\n						\n		\n						\n				\n				\n				\n					High-Speed Layout in OrCAD X – It’s Simpler Than You Think!				\n				\n					\n		\n					\n		\n				\n						\n					\n			\n						\n				\n									Tackling high-speed routing can be a routine task or the next stepping stone in your PCB design career.  Join Cadence as they review and demonstrate the following topics: Fundamentals of high-speed signalsKey factors that affect the performance of high-speed signalsHow to utilize OrCAD X and Constraint Manager features for high-speed routingHow to leverage OrCAD X In-Design Analysis for post-layout simulation and verification  Webinar attendees will receive a demo database featuring common interfaces such as DDR3\, HDMI\, and many more to exercise what you’ve learned.  Both new and experienced users can learn a trick or two from the webinar!  Learn the fundamentals and have the tools to tackle your first high-speed design or see if you know all the tips and tricks which we demonstrate for efficient high-speed design practices. 								\n				\n				\n				\n									\n					\n						\n									Register Now
URL:https://www.cadmicro.com/event/high-speed-layout-in-orcad-x-its-simpler-than-you-think/
CATEGORIES:Webinar
ATTACH;FMTTYPE=image/jpeg:https://www.cadmicro.com/wp-content/uploads/Cadence-PCB-webinar-1-scaled.jpg
END:VEVENT
END:VCALENDAR