BEGIN:VCALENDAR
VERSION:2.0
PRODID:-//CAD MicroSolutions Inc. - ECPv6.15.15//NONSGML v1.0//EN
CALSCALE:GREGORIAN
METHOD:PUBLISH
X-WR-CALNAME:CAD MicroSolutions Inc.
X-ORIGINAL-URL:https://www.cadmicro.com
X-WR-CALDESC:Events for CAD MicroSolutions Inc.
REFRESH-INTERVAL;VALUE=DURATION:PT1H
X-Robots-Tag:noindex
X-PUBLISHED-TTL:PT1H
BEGIN:VTIMEZONE
TZID:America/Toronto
BEGIN:DAYLIGHT
TZOFFSETFROM:-0500
TZOFFSETTO:-0400
TZNAME:EDT
DTSTART:20230312T070000
END:DAYLIGHT
BEGIN:STANDARD
TZOFFSETFROM:-0400
TZOFFSETTO:-0500
TZNAME:EST
DTSTART:20231105T060000
END:STANDARD
BEGIN:DAYLIGHT
TZOFFSETFROM:-0500
TZOFFSETTO:-0400
TZNAME:EDT
DTSTART:20240310T070000
END:DAYLIGHT
BEGIN:STANDARD
TZOFFSETFROM:-0400
TZOFFSETTO:-0500
TZNAME:EST
DTSTART:20241103T060000
END:STANDARD
BEGIN:DAYLIGHT
TZOFFSETFROM:-0500
TZOFFSETTO:-0400
TZNAME:EDT
DTSTART:20250309T070000
END:DAYLIGHT
BEGIN:STANDARD
TZOFFSETFROM:-0400
TZOFFSETTO:-0500
TZNAME:EST
DTSTART:20251102T060000
END:STANDARD
END:VTIMEZONE
BEGIN:VEVENT
DTSTART;TZID=America/Toronto:20240910T110000
DTEND;TZID=America/Toronto:20240910T113000
DTSTAMP:20260421T010349
CREATED:20240906T153905Z
LAST-MODIFIED:20240906T155451Z
UID:65773-1725966000-1725967800@www.cadmicro.com
SUMMARY:Beyond High-Temp: Unlocking the Potential of PPSU FFF 3D Printing
DESCRIPTION:Live				\n				\n					\n		\n				\n			\n						\n				\n					Webinar				\n				\n					\n		\n					\n		\n				\n				\n					September 10 @ 11am ET				\n				\n				\n				\n							\n			\n						\n		\n						\n				\n				\n				\n					Beyond High-Temp: Unlocking the Potential of PPSU FFF 3D Printing				\n				\n					\n		\n					\n		\n				\n						\n					\n			\n						\n				\n									Join Intamsys for an insightful webinar titled “Beyond High-Temp: Unlocking the Potential of PPSU FFF 3D Printing” on September 10th\, 2024. PPSU is known for its outstanding thermal and chemical resistance\, making it an alternative for PEI applications in aerospace and railway industries. This event is designed for professionals and enthusiasts in the 3D printing industry who are keen to explore the advanced capabilities of PPSU material in FFF 3D printing. Expert speakers from BASF Forward AM and INTAMSYS will provide a comprehensive overview of PPSU’s properties\, Additionally\, attendees will gain practical insights into FFF 3D printing with PPSU and see real-world applications and success stories. Key Takeaways: Mastering FFF 3D Printing with PPSU: Understand PPSU’s unique properties and advantages for high-quality FFF 3D printing.High-Quality PPSU FFF 3D Printing with INTAMSYS Technology: Learn how INTAMSYS ensures high-quality PPSU FFF 3D printing with essential processing techniques.Real-World Applications and Innovation: Discover successful case studies showcasing PPSU’s innovative uses in various industries.  Save your spot now\, we hope to see you there!   								\n				\n				\n				\n									\n					\n						\n									Register Now
URL:https://www.cadmicro.com/event/beyond-high-temp-unlocking-the-potential-of-ppsu-fff-3d-printing/
CATEGORIES:Webinar
ATTACH;FMTTYPE=image/jpeg:https://www.cadmicro.com/wp-content/uploads/Instamsys-PPSU-Webinar.jpg
END:VEVENT
END:VCALENDAR