BEGIN:VCALENDAR
VERSION:2.0
PRODID:-//CAD MicroSolutions Inc. - ECPv6.15.15//NONSGML v1.0//EN
CALSCALE:GREGORIAN
METHOD:PUBLISH
X-WR-CALNAME:CAD MicroSolutions Inc.
X-ORIGINAL-URL:https://www.cadmicro.com
X-WR-CALDESC:Events for CAD MicroSolutions Inc.
REFRESH-INTERVAL;VALUE=DURATION:PT1H
X-Robots-Tag:noindex
X-PUBLISHED-TTL:PT1H
BEGIN:VTIMEZONE
TZID:America/Toronto
BEGIN:DAYLIGHT
TZOFFSETFROM:-0500
TZOFFSETTO:-0400
TZNAME:EDT
DTSTART:20240310T070000
END:DAYLIGHT
BEGIN:STANDARD
TZOFFSETFROM:-0400
TZOFFSETTO:-0500
TZNAME:EST
DTSTART:20241103T060000
END:STANDARD
BEGIN:DAYLIGHT
TZOFFSETFROM:-0500
TZOFFSETTO:-0400
TZNAME:EDT
DTSTART:20250309T070000
END:DAYLIGHT
BEGIN:STANDARD
TZOFFSETFROM:-0400
TZOFFSETTO:-0500
TZNAME:EST
DTSTART:20251102T060000
END:STANDARD
BEGIN:DAYLIGHT
TZOFFSETFROM:-0500
TZOFFSETTO:-0400
TZNAME:EDT
DTSTART:20260308T070000
END:DAYLIGHT
BEGIN:STANDARD
TZOFFSETFROM:-0400
TZOFFSETTO:-0500
TZNAME:EST
DTSTART:20261101T060000
END:STANDARD
END:VTIMEZONE
BEGIN:VEVENT
DTSTART;TZID=America/Toronto:20250417T140000
DTEND;TZID=America/Toronto:20250417T143000
DTSTAMP:20260421T191538
CREATED:20250407T181417Z
LAST-MODIFIED:20250407T185242Z
UID:73467-1744898400-1744900200@www.cadmicro.com
SUMMARY:5 Benefits of All-in-One CAD/CAM for a Wide Range of Machines - with Modern Machine Shop
DESCRIPTION:Live				\n				\n					\n		\n				\n			\n						\n				\n					Webinar				\n				\n					\n		\n					\n		\n				\n				\n					April 17 @ 2pm ET				\n				\n				\n				\n							\n			\n						\n		\n						\n				\n				\n				\n					5 Benefits of All-in-One CAD/CAM for a Wide Range of Machines – with Modern Machine Shop				\n				\n					\n		\n					\n		\n				\n						\n					\n			\n						\n				\n									Does your machine shop include a wide range of CNC machines? Having a single\, all-in-one CAD/CAM system for all your CNC machines is efficient and cost-effective. This webinar will provide information on five of the top benefits of implementing a fully-integrated CAD/CAM system with solutions for all your CNC machines. Learn how an all-in-one CAD/CAM system will help streamline your workflows and provide faster design to manufacturingSee a demonstration of CAM software for a wide range of CNC machines — with functionality for milling up to five-axis simultaneous\, turning\, mill turning\, wire EDM\, routers\, lasers\, waterjets\, probing and moreReceive information on how a fully-integrated CAD/CAM system improves accuracy\, eliminates data translation issues\, lowers training requirements and provides overall cost savings  Save your spot now\, we hope to see you there! 								\n				\n				\n				\n									\n					\n						\n									Register Now
URL:https://www.cadmicro.com/event/5-benefits-of-all-in-one-cad-cam-for-a-wide-range-of-machines/
CATEGORIES:Webinar
ATTACH;FMTTYPE=image/jpeg:https://www.cadmicro.com/wp-content/uploads/CAMWorks-3-Axis-Milling2-1.jpg
END:VEVENT
END:VCALENDAR